BEGIN:VCALENDAR
VERSION:2.0
PRODID:-//ChamberMaster//Event Calendar 2.0//EN
METHOD:PUBLISH
X-PUBLISHED-TTL:P3D
REFRESH-INTERVAL:P3D
CALSCALE:GREGORIAN
BEGIN:VEVENT
DTSTART:20180401T153000Z
DTEND:20180401T193000Z
X-MICROSOFT-CDO-ALLDAYEVENT:FALSE
SUMMARY:Easter Brunch
DESCRIPTION:Celebrate with us! Easter Brunch!\n\nBigwood Event Center\n\n925 Western Ave in Fergus Falls\n\nSunday\, April 1\n\nWe are offering 3 different reserved seating times!\n\n10:30am ~ 12:00pm ~ 1:30pm\n\n\n\nAdult $25.95\n\nSeniors $21.95\n\nAges 4-10 $9.95\n\n3 & Under are Free\n\n...\n\nPlease make reservation by Thursday\, 3/29 for 4+ parties by calling Country Inn & Suites of Fergus Falls at (218) 739-2211 and speak to a front desk associate\; they can take information and reserve your preferred seating time! No reservations are required for parties of 3 or less\, however we ask guests to come in during 1 of the 3 seating times.\n\n\n\nBring the camera for an Easter Bunny picture!\n\n\n\nOur all-you-can-eat brunch buffet includes:\n\n- Bountiful Fruit Display\n\n- Cod w/ Dill Hollandaise\n\n- Grilled Chicken Breast w/ Parmesan Sauce\n\n- Black Oak Ham w/ Cherry Glaze\n\n- Steamed Veggies\n\n- Veggie & Meat Egg Bakes\n\n- Sausage\n\n- Pancakes\n\n- MN Wild Rice Sausage Gravy & Biscuits\n\n- Cheesy Hash Browns\n\n- Green Bean Casserole\n\n- Assorted Breads\n\n- Lefsa\n\n- Pastries\n\n- Gourmet Butter\n\n- Smoked Salmon\n\n- White Fish\n\n- Full Salad Bar\n\n- Assortment of Desserts\n\n- Coffee\n\n- Water\n\n\n\nWe are excited to host this special meal for you\, family\, and friends! We look forward to seeing you!
X-ALT-DESC;FMTTYPE=text/html:<div class="text_exposed_root text_exposed" id="id_5aafe46614cab3655633178"><span class="_4n-j _fbReactionComponent__eventDetailsContentTags fsl" data-testid="event-permalink-details">Celebrate with us! Easter Brunch!<br />\nBigwood Event Center<br />\n925 Western Ave in Fergus Falls<br />\nSunday\, April 1<br />\nWe are offering 3 different reserved seating times!<br />\n10:30am ~ 12:00pm ~ 1:30pm<br />\n<br />\nAdult $25.95<br />\nSeniors $21.95<br />\nAges 4-10 $9.95<br />\n3 &amp\; Under are Free<br />\n<span class="text_exposed_hide">...</span><br />\n<span class="text_exposed_show">Please make reservation by Thursday\, 3/29 for 4+ parties by calling Country Inn &amp\; Suites of Fergus Falls at (218) 739-2211 and speak to a front desk associate\; they can take information and reserve your preferred seating time! No reservations are required for parties of 3 or less\, however we ask guests to come in during 1 of the 3 seating times.<br />\n<br />\nBring the camera for an Easter Bunny picture!<br />\n<br />\nOur all-you-can-eat brunch buffet includes:<br />\n- Bountiful Fruit Display<br />\n- Cod w/ Dill Hollandaise<br />\n- Grilled Chicken Breast w/ Parmesan Sauce<br />\n- Black Oak Ham w/ Cherry Glaze<br />\n- Steamed Veggies<br />\n- Veggie &amp\; Meat Egg Bakes<br />\n- Sausage<br />\n- Pancakes<br />\n- MN Wild Rice Sausage Gravy &amp\; Biscuits<br />\n- Cheesy Hash Browns<br />\n- Green Bean Casserole<br />\n- Assorted Breads<br />\n- Lefsa<br />\n- Pastries<br />\n- Gourmet Butter<br />\n- Smoked Salmon<br />\n- White Fish<br />\n- Full Salad Bar<br />\n- Assortment of Desserts<br />\n- Coffee<br />\n- Water<br />\n<br />\nWe are excited to host this special meal for you\, family\, and friends! We look forward to seeing you!</span></span></div>\n
LOCATION:Country Inn & Suites Bigwood Event Center 925 Western Ave Fergus Falls
UID:e.314.44935
SEQUENCE:3
DTSTAMP:20260423T235042Z
URL:https://business.fergusfalls.com/events/details/easter-brunch-44935
END:VEVENT

END:VCALENDAR
