BEGIN:VCALENDAR
VERSION:2.0
PRODID:-//ChamberMaster//Event Calendar 2.0//EN
METHOD:PUBLISH
X-PUBLISHED-TTL:P3D
REFRESH-INTERVAL:P3D
CALSCALE:GREGORIAN
BEGIN:VEVENT
DTSTART:20160327T150000Z
DTEND:20160327T190000Z
X-MICROSOFT-CDO-ALLDAYEVENT:FALSE
SUMMARY:Easter Brunch at Bello Cucina
DESCRIPTION:10 am - 2pm Brunch\n\n\n\nWe will be having a large spread\, fresh fruit\, pastries\, scrambled eggs with cheese\, hash browns\, biscuits and gravy\, bacon\, sausage\, French toast\,cold leafy salads\, pasta salads\, beef entrees ( local chef's choice)\, pork entrees( local chef's choice) fish features( local chef's choice) hot pastas\, saut ed vegetables\, garlic mashed and gravy\, assorted pies\, bottomless bloodies and mimosas.\n\nCall for reservations: 218-998-2221
X-ALT-DESC;FMTTYPE=text/html:<div class="_2qgs"><span class="_fbReactionComponent__eventDetailsContent fsl">10 am - 2pm&nbsp\;Brunch<br />\n<br />\nWe will be having a large spread\, fresh fruit\, pastries\, scrambled eggs with cheese\, hash browns\, biscuits and gravy\, bacon\, sausage\, French toast\,cold leafy salads\, pasta salads\, beef entrees ( local chef&#39\;s choice)\, pork entrees( local chef&#39\;s choice) fish features( local chef&#39\;s choice) hot pastas\, saut&eacute\;ed vegetables\, garlic mashed and gravy\, assorted pies\, bottomless bloodies and mimosas.<br />\nCall for reservations: 218-998-2221</span></div>\n
LOCATION:106 W Lincoln Ave Fergus Falls\, MN 56537
UID:e.314.32322
SEQUENCE:3
DTSTAMP:20260425T200017Z
URL:https://business.fergusfalls.com/events/details/easter-brunch-at-bello-cucina-03-27-2016-32322
END:VEVENT

END:VCALENDAR
