BEGIN:VCALENDAR
VERSION:2.0
PRODID:-//ChamberMaster//Event Calendar 2.0//EN
METHOD:PUBLISH
X-PUBLISHED-TTL:P3D
REFRESH-INTERVAL:P3D
CALSCALE:GREGORIAN
BEGIN:VEVENT
DTSTART:20190421T153000Z
DTEND:20190421T193000Z
X-MICROSOFT-CDO-ALLDAYEVENT:FALSE
SUMMARY:Easter Brunch at the Bigwood
DESCRIPTION:Celebrate Easter with us! We're serving brunch! We are offering 3 different reserved seating times! 10:30am ~ 12:00pm ~ 1:30pm Please make a reservation by Thursday\, April 18th for any size party. Reservations can be made by calling the Country Inn & Suites in Fergus Falls at (218)739-2211 and speaking to a front desk associate. They will ask for your information and reserve your preferred seating time. Bring the camera for an Easter Bunny picture! Our all-you-can-eat brunch buffet includes: - Bountiful Fruit Display - Chef Made Omelet Station - Coconut Shrimp - Grilled Chicken Breast with Marsala Sauce - Black Oak Ham (Carving Station) - Mashed Potatoes - Steamed Veggies - MN Wild Rice Sausage Gravy & Biscuits - Cheesy Hash Browns - Green Bean Casserole - Assorted Breads with Gourmet Butter - Full Salad Bar - Variety of Desserts - Coffee & Water And Many Breakfast Favorites! We are excited to host this special meal for you\, family\, and friends! We look forward to seeing you!
X-ALT-DESC;FMTTYPE=text/html:Celebrate Easter with us! We&#39\;re serving brunch! We are offering 3 different reserved seating times! 10:30am ~ 12:00pm ~ 1:30pm Please make a reservation by Thursday\, April 18th for any size party. Reservations can be made by calling the Country Inn &amp\; Suites in Fergus Falls at (218)739-2211 and speaking to a front desk associate. They will ask for your information and reserve your preferred seating time. Bring the camera for an Easter Bunny picture! Our all-you-can-eat brunch buffet includes: - Bountiful Fruit Display - Chef Made Omelet Station - Coconut Shrimp - Grilled Chicken Breast with Marsala Sauce - Black Oak Ham (Carving Station) - Mashed Potatoes - Steamed Veggies - MN Wild Rice Sausage Gravy &amp\; Biscuits - Cheesy Hash Browns - Green Bean Casserole - Assorted Breads with Gourmet Butter - Full Salad Bar - Variety of Desserts - Coffee &amp\; Water And Many Breakfast Favorites! We are excited to host this special meal for you\, family\, and friends! We look forward to seeing you!
LOCATION:Bigwood Event Center 925 Western Ave Fergus Falls\, MN 56537
UID:e.314.52808
SEQUENCE:3
DTSTAMP:20260423T063024Z
URL:https://business.fergusfalls.com/events/details/easter-brunch-at-the-bigwood-52808
END:VEVENT

END:VCALENDAR
