BEGIN:VCALENDAR
VERSION:2.0
PRODID:-//ChamberMaster//Event Calendar 2.0//EN
METHOD:PUBLISH
X-PUBLISHED-TTL:P3D
REFRESH-INTERVAL:P3D
CALSCALE:GREGORIAN
BEGIN:VEVENT
DTSTART:20160327T150000Z
DTEND:20160327T190000Z
X-MICROSOFT-CDO-ALLDAYEVENT:FALSE
SUMMARY:Easter Brunch at the Bigwood Event Center
DESCRIPTION:Join us at the Bigwood Event Center for our annual Easter Brunch. We will be serving from 10:00am-2:00pm with reservations being accepting for parties of 6 or more people. Please call our Front Desk at 218-739-2211 to make reservations.\n\n\n\nAdults: $24.95\n\nSeniors (55+): $22.95\n\nChildren (4-10): $9.95\n\nChildren 3 and Under: Free\n\n\n\nBOUNTIFUL FRUIT DISPLAY\n\nCHEF MADE OMELETS\n\nBROILED LEMON PEPPER COD\n\nGRILLED CHICKEN BREAST IN CHAMPAGNE SAUCE\n\nBLACK OAK HAM WITH CRANBERRY GLAZE...\n\nSEASONAL STEAMED VEGETABLES\n\nSCRAMBLED EGGS\, SAUSAGE\, AND PANCAKES WITH WHIPPED CREAM AND WARM MAPLE SYRUP\n\nFLAKY BISCUITS WITH MN WILD RICE SAUSAGE GRAVY\n\nCHEESY HASHBROWNS AND GREEN BEAN CASSEROLE\n\nASSORTED BREADS\, LEFSE\, PASTRIES AND GOURMET BUTTERS\n\nSMOKED SALMON PRESENTATION\n\nFULL SALAD BAR INCLUDING FRESH FRUIT\, VEGETABLES\, AND HOMEMADE DELI SALADS\n\nOUR FAMOUS DESSERT SAMPLINGS AND SELECTIONS INCLUDING CAKES\, PIES\, BREAD PUDDING\, AND MORE
X-ALT-DESC;FMTTYPE=text/html:<div class="text_exposed_root text_exposed" id="id_56ec5abc162c70d49487068"><span class="_fbReactionComponent__eventDetailsContent fsl">Join us at the Bigwood Event Center for our annual Easter Brunch. We will be serving from 10:00am-2:00pm with reservations being accepting for parties of 6 or more people. Please call our Front Desk at 218-739-2211 to make reservations.<br />\n<br />\nAdults: $24.95<br />\nSeniors (55+): $22.95<br />\nChildren (4-10): $9.95<br />\nChildren 3 and Under: Free<br />\n<br />\nBOUNTIFUL FRUIT DISPLAY<br />\nCHEF MADE OMELETS<br />\nBROILED LEMON PEPPER COD<br />\nGRILLED CHICKEN BREAST IN CHAMPAGNE SAUCE<br />\nBLACK OAK HAM WITH CRANBERRY GLAZE<span class="text_exposed_hide">...</span><br />\n<span class="text_exposed_show">SEASONAL STEAMED VEGETABLES<br />\nSCRAMBLED EGGS\, SAUSAGE\, AND PANCAKES WITH WHIPPED CREAM AND WARM MAPLE SYRUP<br />\nFLAKY BISCUITS WITH MN WILD RICE SAUSAGE GRAVY<br />\nCHEESY HASHBROWNS AND GREEN BEAN CASSEROLE<br />\nASSORTED BREADS\, LEFSE\, PASTRIES AND GOURMET BUTTERS<br />\nSMOKED SALMON PRESENTATION<br />\nFULL SALAD BAR INCLUDING FRESH FRUIT\, VEGETABLES\, AND HOMEMADE DELI SALADS<br />\nOUR FAMOUS DESSERT SAMPLINGS AND SELECTIONS INCLUDING CAKES\, PIES\, BREAD PUDDING\, AND MORE</span></span></div>\n
LOCATION:Best Western & Bigwood Event Center 925 Western Ave\, Fergus Falls\, Minnesota 56537
UID:e.314.32055
SEQUENCE:3
DTSTAMP:20260425T200334Z
URL:https://business.fergusfalls.com/events/details/easter-brunch-at-the-bigwood-event-center-03-27-2016-32055
END:VEVENT

END:VCALENDAR
