BEGIN:VCALENDAR
VERSION:2.0
PRODID:-//ChamberMaster//Event Calendar 2.0//EN
METHOD:PUBLISH
X-PUBLISHED-TTL:P3D
REFRESH-INTERVAL:P3D
CALSCALE:GREGORIAN
BEGIN:VEVENT
DTSTART:20160327T153000Z
DTEND:20160327T190000Z
X-MICROSOFT-CDO-ALLDAYEVENT:FALSE
SUMMARY:Easter Buffet at Thumper Pond
DESCRIPTION:Easter Buffet \n\nSunday\, March 27th\n\n10:30 am - 2:00 pm\n\n \n\nCall 218-367-2000 for Reservations\n\n \n\n \n\nLet Thumper Pond handle the cooking this Easter.  Our Culinary Team has prepared the following menu for your enjoyment:\n\n \n\nPineapple-Bourbon Glazed Ham\n\nHerb Roasted Pork Loin\, Honey-Dijon Sauce\n\nFork-Tender Roast Beef\, Caramelized Shallot Horseradish Sauce\n\nSmoked Gouda Au Gratin Potatoes\n\nMinnesota Wild Rice Pilaf with Cranberry and Pecans\n\nSavory Roasted Root Vegetable Medley\n\nHaricot Verts with Applewood Smoked Bacon & Crispy Onion Straws\n\nClassic Traditional Deviled Eggs\n\nApplewood Smoked Bacon and Pea Salad\n\nFresh Fruit Platter\n\nMini Salad Bar with Assorted Toppings and House Dressings\n\nFresh Baked Rolls with Honey Butter\n\nAssorted Desserts Featuring Carrot Cake\, Cheesecakes\,\n\nLemon Bars and an Easter Candy Display\n\n \n\n\nAdults $19.99\n\nSeniors $16.99\n\nKids (6 to 12) $10.99\n\nKids 5 and under FREE
X-ALT-DESC;FMTTYPE=text/html:<div style="text-align: center\;"><strong>Easter Buffet&nbsp\;</strong></div>\n\n<div style="text-align: center\; font-family: Arial\, Helvetica\, sans-serif\; font-size: 16pt\;"><span style="line-height: 115%\;"><b>Sunday\, March 27th</b></span></div>\n\n<div style="text-align: center\; font-family: Arial\, Helvetica\, sans-serif\; font-size: 16pt\;"><b>10:30 am - 2:00 pm</b></div>\n\n<div style="text-align: center\; font-family: Arial\, Helvetica\, sans-serif\; font-size: 16pt\;">&nbsp\;</div>\n\n<div style="text-align: center\; font-family: Arial\, Helvetica\, sans-serif\; font-size: 16pt\;"><span style="line-height: 1.1\; font-size: 14pt\;"><strong>Call 218-367-2000 for Reservations</strong></span></div>\n\n<div style="text-align: center\; font-family: Arial\, Helvetica\, sans-serif\; font-size: 16pt\;">&nbsp\;</div>\n\n<div style="text-align: center\; font-size: 11pt\;">&nbsp\;</div>\n\n<div style="text-align: center\; font-size: 11pt\;"><span style="line-height: 115%\;">Let Thumper Pond handle the cooking this Easter. &nbsp\;Our Culinary Team has prepared the following menu for your enjoyment:</span></div>\n\n<div align="left" style="text-align: left\; font-size: 11pt\;">&nbsp\;</div>\n\n<div align="center" style="text-align: center\; font-family: Arial\, Helvetica\, sans-serif\; font-size: 11pt\;"><span style="line-height: 115%\;">Pineapple-Bourbon Glazed Ham</span></div>\n\n<div align="center" style="text-align: center\; font-family: Arial\, Helvetica\, sans-serif\; font-size: 11pt\;"><span style="line-height: 115%\;">Herb Roasted Pork Loin\, Honey-Dijon Sauce</span></div>\n\n<div align="center" style="text-align: center\; font-family: Arial\, Helvetica\, sans-serif\; font-size: 11pt\;"><span style="line-height: 115%\;">Fork-Tender Roast Beef\, Caramelized Shallot Horseradish Sauce</span></div>\n\n<div align="center" style="text-align: center\; font-family: Arial\, Helvetica\, sans-serif\; font-size: 11pt\;"><span style="line-height: 115%\;">Smoked Gouda Au Gratin Potatoes</span></div>\n\n<div align="center" style="text-align: center\; font-family: Arial\, Helvetica\, sans-serif\; font-size: 11pt\;"><span style="line-height: 115%\;">Minnesota Wild Rice Pilaf with Cranberry and Pecans</span></div>\n\n<div align="center" style="text-align: center\; font-family: Arial\, Helvetica\, sans-serif\; font-size: 11pt\;"><span style="line-height: 115%\;">Savory Roasted Root Vegetable Medley</span></div>\n\n<div align="center" style="text-align: center\; font-family: Arial\, Helvetica\, sans-serif\; font-size: 11pt\;"><span style="line-height: 115%\;">Haricot Verts with Applewood Smoked Bacon &amp\; Crispy Onion Straws</span></div>\n\n<div align="center" style="text-align: center\; font-family: Arial\, Helvetica\, sans-serif\; font-size: 11pt\;"><span style="line-height: 115%\;">Classic Traditional Deviled Eggs</span></div>\n\n<div align="center" style="text-align: center\; font-family: Arial\, Helvetica\, sans-serif\; font-size: 11pt\;"><span style="line-height: 115%\;">Applewood Smoked Bacon and Pea Salad</span></div>\n\n<div align="center" style="text-align: center\; font-family: Arial\, Helvetica\, sans-serif\; font-size: 11pt\;"><span style="line-height: 115%\;">Fresh Fruit Platter</span></div>\n\n<div align="center" style="text-align: center\; font-family: Arial\, Helvetica\, sans-serif\; font-size: 11pt\;"><span style="line-height: 115%\;">Mini Salad Bar with Assorted Toppings and House Dressings</span></div>\n\n<div align="center" style="text-align: center\; font-family: Arial\, Helvetica\, sans-serif\; font-size: 11pt\;"><span style="line-height: 115%\;">Fresh Baked Rolls with Honey Butter</span></div>\n\n<div align="center" style="text-align: center\; font-family: Arial\, Helvetica\, sans-serif\; font-size: 11pt\;"><span style="line-height: 115%\;">Assorted Desserts Featuring Carrot Cake\, Cheesecakes\,</span></div>\n\n<div align="center" style="text-align: center\; font-family: Arial\, Helvetica\, sans-serif\; font-size: 11pt\;"><span style="line-height: 115%\;">Lemon Bars and an Easter Candy Display</span></div>\n\n<div align="left" style="text-align: left\; font-family: Arial\, Helvetica\, sans-serif\; font-size: 11pt\;">&nbsp\;</div>\n\n<div align="center" style="text-align: center\; font-family: Arial\, Helvetica\, sans-serif\; font-size: 11pt\;">\n<div align="center" style="text-align: center\; line-height: 19.06px\; font-family: Arial\, Helvetica\, sans-serif\; font-size: 14pt\;"><span style="line-height: 24.53px\;">Adults $19.99</span></div>\n\n<div align="center" style="text-align: center\; line-height: 19.06px\; font-family: Arial\, Helvetica\, sans-serif\; font-size: 14pt\;"><span style="line-height: 24.53px\;">Seniors $16.99</span></div>\n\n<div align="center" style="text-align: center\; line-height: 19.06px\; font-family: Arial\, Helvetica\, sans-serif\; font-size: 14pt\;"><span style="line-height: 24.53px\;">Kids (6 to 12) $10.99</span></div>\n\n<div align="center" style="text-align: center\; line-height: 19.06px\; font-family: Arial\, Helvetica\, sans-serif\; font-size: 14pt\;"><span style="line-height: 24.53px\;">Kids 5 and under FREE</span></div>\n</div>\n
LOCATION:Thumper Pond Resort LLC 300 Thumper Lodge Road Ottertail\, MN 56571
UID:e.314.32321
SEQUENCE:3
DTSTAMP:20260425T181519Z
URL:https://business.fergusfalls.com/events/details/easter-buffet-at-thumper-pond-03-27-2016-32321
END:VEVENT

END:VCALENDAR
