BEGIN:VCALENDAR
VERSION:2.0
PRODID:-//ChamberMaster//Event Calendar 2.0//EN
METHOD:PUBLISH
X-PUBLISHED-TTL:P3D
REFRESH-INTERVAL:P3D
CALSCALE:GREGORIAN
BEGIN:VEVENT
DTSTART:20160319T140000Z
DTEND:20160319T150000Z
X-MICROSOFT-CDO-ALLDAYEVENT:FALSE
SUMMARY:Easter Egg hunt
DESCRIPTION:No charge to attend. Event is for children up to 6 years old.\n\nThe Easter Bunny will be there!\n\nStarts 9:00 am sharp
X-ALT-DESC;FMTTYPE=text/html:<span class="fsl">No charge to attend. Event is for children up to 6 years old.<br />\nThe Easter Bunny will be there!<br />\nStarts 9:00 am sharp</span>
LOCATION:NP Park
UID:e.314.31323
SEQUENCE:3
DTSTAMP:20260425T181329Z
URL:https://business.fergusfalls.com/events/details/easter-egg-hunt-03-19-2016-31323
END:VEVENT

END:VCALENDAR
