BEGIN:VCALENDAR
VERSION:2.0
PRODID:-//ChamberMaster//Event Calendar 2.0//EN
METHOD:PUBLISH
X-PUBLISHED-TTL:P3D
REFRESH-INTERVAL:P3D
CALSCALE:GREGORIAN
BEGIN:VEVENT
DTSTART:20170415T150000Z
DTEND:20170415T180000Z
X-MICROSOFT-CDO-ALLDAYEVENT:FALSE
SUMMARY:Easter "Egg"-travangaza
DESCRIPTION:April 15:  Easter "Egg"-travangaza\, 10am-1pm\n\n                 See the 6' Easter Bunny\n\n                 FREE Easter crafts\, games & activities for kids ages 2-10\n\n\n\n\n\n\n\nApril 16:  Easter\, WRM CLOSED\, except WR Theatre \n\n                 For the theatre movie schedule\, call 218-736-1206 or visit\n\n                 www.cectheatres.com
X-ALT-DESC;FMTTYPE=text/html:<div><font color="#ff0000" face="Arial\, Helvetica\, sans-serif" size="1"><b>April 15: &nbsp\;Easter &quot\;Egg&quot\;-travangaza\, 10am-1pm</b></font></div>\n\n<div><font color="#ff0000" face="Arial\, Helvetica\, sans-serif" size="1"><b>&nbsp\; &nbsp\; &nbsp\; &nbsp\; &nbsp\; &nbsp\; &nbsp\; &nbsp\; &nbsp\;See the 6&#39\; Easter Bunny</b></font></div>\n\n<div><font color="#ff0000" face="Arial\, Helvetica\, sans-serif" size="1"><b>&nbsp\; &nbsp\; &nbsp\; &nbsp\; &nbsp\; &nbsp\; &nbsp\; &nbsp\; &nbsp\;FREE Easter crafts\, games &amp\; activities for kids ages 2-10</b></font><br />\n<br />\n<br />\n<br />\n<strong style="font-family: Arial\, Helvetica\, sans-serif\; font-size: x-small\; background-color: rgb(255\, 255\, 255)\;"><span style="color: rgb(255\, 0\, 0)\; font-size: small\;"><span style="font-size: x-small\;">April 16:&nbsp\; Easter\, WRM CLOSED\,<em>&nbsp\;except</em>&nbsp\;WR Theatre&nbsp\;<br />\n&nbsp\;&nbsp\;&nbsp\;&nbsp\;&nbsp\;&nbsp\;&nbsp\;&nbsp\;&nbsp\;&nbsp\;&nbsp\;&nbsp\;&nbsp\;&nbsp\;&nbsp\;&nbsp\; For the theatre movie schedule\, call 218-736-1206 or visit<br />\n&nbsp\;&nbsp\;&nbsp\;&nbsp\;&nbsp\;&nbsp\;&nbsp\;&nbsp\;&nbsp\;&nbsp\;&nbsp\;&nbsp\;&nbsp\;&nbsp\;&nbsp\;&nbsp\; www.cectheatres.com</span></span></strong><br />\n&nbsp\;</div>\n
LOCATION:WestRidge Mall is located 1/2 mile off the intersection of I-94 and Hwy. 210 in Fergus Falls\, MN. Fergus Falls is located only 2-1/2 hours Northwest of Minneapolis-Saint Paul and 1 hour southeast of Fargo-Moorhead.
UID:e.314.40044
SEQUENCE:3
DTSTAMP:20260424T204740Z
URL:https://business.fergusfalls.com/events/details/easter-egg-travangaza-40044
END:VEVENT

END:VCALENDAR
