BEGIN:VCALENDAR
VERSION:2.0
PRODID:-//ChamberMaster//Event Calendar 2.0//EN
METHOD:PUBLISH
X-PUBLISHED-TTL:P3D
REFRESH-INTERVAL:P3D
CALSCALE:GREGORIAN
BEGIN:VEVENT
DTSTART:20190420T170000Z
DTEND:20190420T180000Z
X-MICROSOFT-CDO-ALLDAYEVENT:FALSE
SUMMARY:Easter Golf Ball Hunt @ PLGC
DESCRIPTION:The Easter golf ball hunt is coming up!  \nMark your calendars parents!   \n\nSaturday\, April 20th at noon!\n...We can't wait to see you at PLGC
X-ALT-DESC;FMTTYPE=text/html:<span class="_6qdm" style="width: 16px\; height: 16px\; font-size: 16px\; background-image: url(&quot\;https://static.xx.fbcdn.net/images/emoji.php/v9/t6f/1/16/1f337.png&quot\;)\;">&#55356\;&#57143\;</span>The Easter golf ball hunt is coming up!<span class="_5mfr"><span class="_6qdm" style="width: 16px\; height: 16px\; font-size: 16px\; background-image: url(&quot\;https://static.xx.fbcdn.net/images/emoji.php/v9/t6f/1/16/1f337.png&quot\;)\;">&#55356\;&#57143\;</span></span>\n<p>Mark your calendars parents! <span class="_5mfr"><span class="_6qdm" style="width: 16px\; height: 16px\; font-size: 16px\; background-image: url(&quot\;https://static.xx.fbcdn.net/images/emoji.php/v9/t8c/1/16/1f389.png&quot\;)\;">&#55356\;&#57225\;</span></span><br />\nSaturday\, April 20th at noon!</p>\n<span class="text_exposed_hide">...We can&rsquo\;t wait to see you at PLGC</span>
LOCATION:
UID:e.314.52818
SEQUENCE:3
DTSTAMP:20260423T075422Z
URL:https://business.fergusfalls.com/events/details/easter-golf-ball-hunt-plgc-52818
END:VEVENT

END:VCALENDAR
