BEGIN:VCALENDAR
VERSION:2.0
PRODID:-//ChamberMaster//Event Calendar 2.0//EN
METHOD:PUBLISH
X-PUBLISHED-TTL:P3D
REFRESH-INTERVAL:P3D
CALSCALE:GREGORIAN
BEGIN:VEVENT
DTSTART;VALUE=DATE:20180324
DTEND;VALUE=DATE:20180325
TRANSP:TRANSPARENT
X-MICROSOFT-CDO-ALLDAYEVENT:TRUE
SUMMARY:Easton Corbin LIVE at Dakota Magic Casino Convention Center
DESCRIPTION:See Easton Corbin LIVE at Dakota Magic Casino Convention Center March 24th at 8PM! Get your tickets to the all ages show here --  https://dakotamagiccasino.yapsody.com/event/index/176021/easton-corbin
X-ALT-DESC;FMTTYPE=text/html:<span aria-live="polite" class="fbPhotosPhotoCaption" data-ft="{&quot\;tn&quot\;:&quot\;K&quot\;}" id="fbPhotoSnowliftCaption" tabindex="0"><span class="hasCaption">See Easton Corbin LIVE at Dakota Magic Casino Convention Center March 24th at 8PM! Get your tickets to the all ages show here --&gt\; <a data-lynx-mode="hover" data-lynx-uri="https://l.facebook.com/l.php?u=https%3A%2F%2Fdakotamagiccasino.yapsody.com%2Fevent%2Findex%2F176021%2Feaston-corbin&amp\;h=ATOo8vFCttuKqckBY5fqYOFxlpcFpZXLwXsRn7UbVi1yWIP6M8sWdsCQBKHQ7YGJFWlnYqq3ZfQ9xxBVECNPkuVsW_SHgTfTzpAhr-1OXnzYaKPMFQE" href="https://dakotamagiccasino.yapsody.com/event/index/176021/easton-corbin" rel="nofollow" target="_blank"><font color="#0066cc"><span>https://</span><wbr /><span>dakotamagiccasino.yapsody.c</span><wbr /><span>om/event/index/176021/</span><wbr /></font><font color="#0066cc">easton-corbin</font></a></span></span>
LOCATION:Dakota Magic Casino & Hotel 16849 102nd St. SE Hankinson\, ND 58041
UID:e.314.44974
SEQUENCE:3
DTSTAMP:20260424T025718Z
URL:https://business.fergusfalls.com/events/details/easton-corbin-live-at-dakota-magic-casino-convention-center-44974
END:VEVENT

END:VCALENDAR
