BEGIN:VCALENDAR
VERSION:2.0
PRODID:-//ChamberMaster//Event Calendar 2.0//EN
METHOD:PUBLISH
X-PUBLISHED-TTL:P3D
REFRESH-INTERVAL:P3D
CALSCALE:GREGORIAN
BEGIN:VEVENT
DTSTART:20160819T230000Z
DTEND:20160820T010000Z
X-MICROSOFT-CDO-ALLDAYEVENT:FALSE
SUMMARY:Eating for Optimal Health - Whole Food Plant Based Life
DESCRIPTION:The Fergus Falls Area Family YMCA Presents: Healthy Eating\, Healthy Living. \n\n\n\n"Eating for Optimal Health - Whole Food Plant Based Lifestyle" taught by Elisa & Tim Griffin."
X-ALT-DESC;FMTTYPE=text/html:The Fergus Falls Area Family YMCA Presents: Healthy Eating\, Healthy Living.&nbsp\;<br />\n<br />\n&quot\;Eating for Optimal Health - Whole Food Plant Based Lifestyle&quot\; taught by Elisa &amp\; Tim Griffin.&quot\;
LOCATION:The Fergus Falls Area Family YMCA
UID:e.314.35640
SEQUENCE:3
DTSTAMP:20260425T112508Z
URL:https://business.fergusfalls.com/events/details/eating-for-optimal-health-whole-food-plant-based-life-08-19-2016-35640
END:VEVENT

END:VCALENDAR
