BEGIN:VCALENDAR
VERSION:2.0
PRODID:-//ChamberMaster//Event Calendar 2.0//EN
METHOD:PUBLISH
X-PUBLISHED-TTL:P3D
REFRESH-INTERVAL:P3D
CALSCALE:GREGORIAN
BEGIN:VEVENT
DTSTART:20191009T230000Z
DTEND:20191010T000000Z
X-MICROSOFT-CDO-ALLDAYEVENT:FALSE
SUMMARY:ECFE Night at the Library!
DESCRIPTION:ECFE Night at the Library!\n\n6:00 - 7:00 PM\n\nAges 0 - 5 (siblings welcome)\n\n\n\n**FREE! Registration is required through ECFE. 218-998-0544 ext.9528.**\n\n\n\nTheme: Fall Fun!\n\n\n\nJoin us for a special fall evening storytime with ECFE! Children will have interactive playtime before engaging with a variety of stories\, songs\, fingerplays\, and movement activities. The evening will conclude with an easy fall craft. Everyone is welcome!
X-ALT-DESC;FMTTYPE=text/html:<span>ECFE Night at the Library!<br />\n6:00 - 7:00 PM<br />\nAges 0 - 5 (siblings welcome)<br />\n<br />\n**FREE! Registration is required through ECFE. 218-998-0544 ext.9528.**<br />\n<br />\nTheme: Fall Fun!<br />\n<br />\nJoin us for a special fall evening storytime with ECFE! Children will have interactive playtime before engaging with a variety of stories\, songs\, fingerplays\, and movement activities. The evening will conclude with an easy fall craft. Everyone is welcome!</span>
LOCATION:FF Public Library!
UID:e.314.54803
SEQUENCE:3
DTSTAMP:20260422T221527Z
URL:https://business.fergusfalls.com/events/details/ecfe-night-at-the-library-54803
END:VEVENT

END:VCALENDAR
