BEGIN:VCALENDAR
VERSION:2.0
PRODID:-//ChamberMaster//Event Calendar 2.0//EN
METHOD:PUBLISH
X-PUBLISHED-TTL:P3D
REFRESH-INTERVAL:P3D
CALSCALE:GREGORIAN
BEGIN:VEVENT
DTSTART:20200311T233000Z
DTEND:20200312T010000Z
X-MICROSOFT-CDO-ALLDAYEVENT:FALSE
SUMMARY:ECFE/YMCA swim night
DESCRIPTION:YMCA Early Childhood Swim Night @ Fergus Falls YMCA (1164 Friberg Ave) (Infants - 5 year olders\, not yet in kindergarten) Come swimming at the YMCA pool with other Early Childhood Families! Wednesday\, March 11th Arrive at 6:30 swim time available between 6:45-7:45 pm Fee: FREE (Register all attending)
X-ALT-DESC;FMTTYPE=text/html:YMCA Early Childhood Swim Night @ Fergus Falls YMCA (1164 Friberg Ave) (Infants - 5 year olders\, not yet in kindergarten) Come swimming at the YMCA pool with other Early Childhood Families! Wednesday\, March 11th Arrive at 6:30 swim time available between 6:45-7:45 pm Fee: FREE (Register all attending)
LOCATION:Fergus Falls YMCA 1164 Friberg Ave.
UID:e.314.57244
SEQUENCE:3
DTSTAMP:20260422T125310Z
URL:https://business.fergusfalls.com/events/details/ecfe-ymca-swim-night-57244
END:VEVENT

END:VCALENDAR
