BEGIN:VCALENDAR
VERSION:2.0
PRODID:-//ChamberMaster//Event Calendar 2.0//EN
METHOD:PUBLISH
X-PUBLISHED-TTL:P3D
REFRESH-INTERVAL:P3D
CALSCALE:GREGORIAN
BEGIN:VEVENT
DTSTART;VALUE=DATE:20180525
DTEND;VALUE=DATE:20180528
TRANSP:TRANSPARENT
X-MICROSOFT-CDO-ALLDAYEVENT:TRUE
SUMMARY:Eclipse at Dakota Magic Casino
DESCRIPTION:Eclipse at Dakota Magic Casino\n\n\n\nEnjoy your Memorial Day weekend with Eclipse at the Dakota Magic Casino & Hotel in Hankinson\, ND!
X-ALT-DESC;FMTTYPE=text/html:<strong>Eclipse at Dakota Magic Casino</strong><br />\n<br />\n<span class="_4n-j _3cht fsl" data-testid="event-permalink-details">Enjoy your Memorial Day weekend with Eclipse at the Dakota Magic Casino &amp\; Hotel in Hankinson\, ND!</span>
LOCATION:Dakota Magic Casino & Hotel
UID:e.314.44976
SEQUENCE:3
DTSTAMP:20260423T223945Z
URL:https://business.fergusfalls.com/events/details/eclipse-at-dakota-magic-casino-44976
END:VEVENT

END:VCALENDAR
