BEGIN:VCALENDAR
VERSION:2.0
PRODID:-//ChamberMaster//Event Calendar 2.0//EN
METHOD:PUBLISH
X-PUBLISHED-TTL:P3D
REFRESH-INTERVAL:P3D
CALSCALE:GREGORIAN
BEGIN:VEVENT
DTSTART:20151004T000000Z
DTEND:20151004T020000Z
X-MICROSOFT-CDO-ALLDAYEVENT:FALSE
SUMMARY:Edge Haunted Tours
DESCRIPTION:Stirling Edge Productions present Edge Haunted Tours 2015 I-L-L-USIONS! Be PREPARED to be SCARED!
X-ALT-DESC;FMTTYPE=text/html:Stirling Edge Productions present Edge Haunted Tours 2015 I-L-L-USIONS! Be PREPARED to be SCARED!
LOCATION:West Ridge Mall 2001 West Lincoln Ave. Fergus Falls\,MN 56537 Between doors A & B
UID:e.314.24205
SEQUENCE:3
DTSTAMP:20260426T025924Z
URL:https://business.fergusfalls.com/events/details/edge-haunted-tours-10-03-2015-24205
END:VEVENT

END:VCALENDAR
