BEGIN:VCALENDAR
VERSION:2.0
PRODID:-//ChamberMaster//Event Calendar 2.0//EN
METHOD:PUBLISH
X-PUBLISHED-TTL:P3D
REFRESH-INTERVAL:P3D
CALSCALE:GREGORIAN
BEGIN:VEVENT
DTSTART:20151031T000000Z
DTEND:20151031T000000Z
X-MICROSOFT-CDO-ALLDAYEVENT:FALSE
SUMMARY:Edge Haunted Tours
DESCRIPTION:Sterling Edge Productions presents the 2015 Edge Haunted Tours I-L-L-USION! Be PREPARED to be SCARED!
X-ALT-DESC;FMTTYPE=text/html:Sterling Edge Productions presents the 2015 Edge Haunted Tours I-L-L-USION! Be PREPARED to be SCARED!
LOCATION:West Ridge Mall 2001 West Lincoln Ave. Fergus Falls\, MN 56537 Between Entrances A & B
UID:e.314.24203
SEQUENCE:3
DTSTAMP:20260426T042837Z
URL:https://business.fergusfalls.com/events/details/edge-haunted-tours-10-30-2015-24203
END:VEVENT

END:VCALENDAR
