BEGIN:VCALENDAR
VERSION:2.0
PRODID:-//ChamberMaster//Event Calendar 2.0//EN
METHOD:PUBLISH
X-PUBLISHED-TTL:P3D
REFRESH-INTERVAL:P3D
CALSCALE:GREGORIAN
BEGIN:VEVENT
DTSTART:20180314T010000Z
DTEND:20180314T030000Z
X-MICROSOFT-CDO-ALLDAYEVENT:FALSE
SUMMARY:Effusion in Paint - Dining Car #423
DESCRIPTION:Join us at Dining Car #423 for an evening of wine\, art instruction and fun!\n\n****\n\nWe will be hosting local artist Holly Gunvaldson as she demonstrates the fluid art techniques used in her paintings. You will also get a chance to test your own skills and ideas by making four ceramic coasters for yourself\, or maybe as a gift for that special someone.\n\n****\n\nTickets are $35. Price includes all supplies plus a glass of wine\, craft beer or a non-alcoholic beverage. Come early and have some dinner. Full menu is available until 8:00. All beverages\, appetizers and desserts will be available all evening.\n\n****\n\nStop into the Dining Car to register or call 218-517-0214. We accept cash or credit cards.
X-ALT-DESC;FMTTYPE=text/html:<span class="_4n-j _3cht fsl" data-testid="event-permalink-details">Join us at Dining Car #423 for an evening of wine\, art instruction and fun!<br />\n****<br />\nWe will be hosting local artist Holly Gunvaldson as she demonstrates the fluid art techniques used in her paintings. You will also get a chance to test your own skills and ideas by making four ceramic coasters for yourself\, or maybe as a gift for that special someone.<br />\n****<br />\nTickets are $35. Price includes all supplies plus a glass of wine\, craft beer or a non-alcoholic beverage. Come early and have some dinner. Full menu is available until 8:00. All beverages\, appetizers and desserts will be available all evening.<br />\n****<br />\nStop into the Dining Car to register or call 218-517-0214. We accept cash or credit cards.</span>
LOCATION:
UID:e.314.43931
SEQUENCE:3
DTSTAMP:20260424T013052Z
URL:https://business.fergusfalls.com/events/details/effusion-in-paint-dining-car-423-43931
END:VEVENT

END:VCALENDAR
