BEGIN:VCALENDAR
VERSION:2.0
PRODID:-//ChamberMaster//Event Calendar 2.0//EN
METHOD:PUBLISH
X-PUBLISHED-TTL:P3D
REFRESH-INTERVAL:P3D
CALSCALE:GREGORIAN
BEGIN:VEVENT
DTSTART:20210608T130000Z
DTEND:20210608T160000Z
X-MICROSOFT-CDO-ALLDAYEVENT:FALSE
SUMMARY:Eggs & Issues: Midwest Energy Summit
DESCRIPTION:Join us for the Midwest Energy Summit in Fargo or via Livestream. Speakers from across the energy industry and with varying beliefs on long-term energy approaches will be present to have a robust discussion about energy in the Midwest. The morning will be energized by dynamic speakers giving TED-style talks and several panel discussions made up of diverse perspectives on various trending topics in the world of energy.\n\n\n	Future of Energy\, Power Supply & Grid Reliability\n	Energy Legislative Policy\n	Environmental\, Social and Governance Energy Goals\n\n\nThe summit will be powered by the FMWF Chamber's Eggs & Issues sponsors\, along with additional summit sponsors. The event is being co-hosted by the Fergus Falls Area Chamber of Commerce.\n\nFull Agenda & Speakers\n\n14 of the 15 speakers will be presenting in-person at the Hilton Garden Inn.\n\n8 a.m.\n\nSpeaker: Christopher Guith\, Senior Vice President\, Policy at the U.S. Chamber of Commerce - Presenting virtually\n\nThe National Energy Landscape.\n\n8:25 a.m.\n\nPanel: Future of Energy\, Power Supply & Grid Reliability\n\nRegional role in the overall energy landscape and visions for the future of energy\, power supply and grid reliability.\n\nModerator: Lt. Governor Brent Sanford\n\nPanelists:\n\nJulie Fedorchak\, Chair\, ND Public Service Commission\n\nChris Clark\, President\, MN ND & SD Xcel Energy\n\nMac McLennan\, President/CEO\, Minnkota Power Cooperative\n\nBrian Tulloh\, Executive Director External Affairs\, MISO North\n\n9:15 a.m.\n\nSpeaker: Tony Clark\, Senior Advisor\, Wilkinson Barker Knauer\, LLP\n\n Electric Reliability and Resilience: Deconstructing the Texas and California Energy Crises   Lessons for the Midwest\n\n9:30 a.m. \n\nPanel: Energy Legislative Policy\n\nState and federal energy policy and its effect on the energy industry.\n\nModerator: Stacey Dahl\, Senior Manager of External Affairs\, Minnkota Power Cooperative\n\nPanelists:\n\nSen. Jessica Bell\, ND Senator\, District 33\n\nRep. Pat Garofalo\, MN Representative\, District 58B\n\nCongressman Kelly Armstrong\, ND\n\n10:15 a.m. \n\nPanel: Environmental\, Social and Governance (ESG) Energy Goals\n\nUnderstanding ESG and the need for efficient\, affordable and sustainable energy solutions.\n\nModerator: James Leiman\, ND Commerce Commissioner\n\nPanelists:\n\nJohn Di Donato\, Vice President\, Development and Origination\, NextEra Energy Resources\n\nAl Rudeck\, President\, ALLETE Clean Energy\n\nBarry Simonson\, Director\, Line 3 Replacement Project\, Enbridge
X-ALT-DESC;FMTTYPE=text/html:<p style="box-sizing: border-box\; margin: 0px 0px 1rem\; letter-spacing: 0.5px\; font-family: Raleway\, sans-serif\; font-size: 16px\; background-color: rgb(239\, 238\, 237)\;"><span style="font-size:12px\;"><span style="font-family:verdana\;"><span style="letter-spacing:.4pt\;"><span style="color:#333333\;"><strong>Join us for the Midwest Energy Summit in Fargo or via Livestream</strong>. Speakers from across the energy industry and with varying beliefs on long-term energy approaches will be present to have a robust discussion about energy in the Midwest. The morning will be energized by dynamic speakers giving TED-style talks and several panel discussions made up of diverse perspectives on various trending topics in the world of energy.</span></span></span></span></p>\n\n<ul>\n	<li style="color:#333333\;margin-bottom:0in\;line-height:normal\;background:white\;"><span style="font-size:14px\;"><span style="font-family:verdana\;">Future of Energy\, Power Supply &amp\; Grid Reliability</span></span></li>\n	<li style="color:#333333\;margin-bottom:0in\;line-height:normal\;background:white\;"><span style="font-size:14px\;"><span style="font-family:verdana\;">Energy Legislative Policy</span></span></li>\n	<li style="color:#333333\;margin-bottom:0in\;line-height:normal\;background:white\;"><span style="font-size:12px\;"><span style="font-family:verdana\;"><span style="font-size:14px\;">Environmental\, Social and Governance Energy Goa</span>ls</span></span></li>\n</ul>\n\n<p style="box-sizing: border-box\; margin: 0px 0px 1rem\; letter-spacing: 0.5px\; font-family: Raleway\, sans-serif\; font-size: 16px\; background-color: rgb(239\, 238\, 237)\;"><span style="font-size:12px\;"><span style="font-family:verdana\;"><span style="letter-spacing:.4pt\;"><span style="color:#333333\;">The summit will be powered by the FMWF Chamber&#39\;s Eggs &amp\; Issues sponsors\, along with additional summit sponsors. The event is being co-hosted by the Fergus Falls Area Chamber of Commerce.</span></span><br />\n<strong><u><span style="letter-spacing:.4pt\;"><span style="color:#333333\;">Full Agenda &amp\; Speakers</span></span></u></strong><br />\n<span style="letter-spacing:.4pt\;"><span style="color:#333333\;"><em>14&nbsp\;of the 15&nbsp\;speakers will be presenting in-person at the Hilton Garden Inn.</em></span></span><br />\n<strong><span style="letter-spacing:.4pt\;"><span style="color:#003399\;">8 a.m.</span></span></strong><br />\n<strong><span style="letter-spacing:.4pt\;"><span style="color:#333333\;">Speaker:</span></span></strong><span style="letter-spacing:.4pt\;"><span style="color:#333333\;">&nbsp\;<strong>Christopher Guith</strong>\, Senior Vice President\, Policy at the U.S. Chamber of Commerce -&nbsp\;</span></span><em><span style="letter-spacing:.4pt\;"><span style="color:#003366\;">Presenting virtually</span></span></em><br />\n<span style="letter-spacing:.4pt\;"><span style="color:#333333\;"><em>The National Energy Landscape.</em></span></span><br />\n<strong><span style="letter-spacing:.4pt\;"><span style="color:#003399\;">8:25&nbsp\;a.m.</span></span></strong><br />\n<strong><span style="letter-spacing:.4pt\;"><span style="color:#333333\;">Panel: Future of Energy\, Power Supply &amp\; Grid Reliability</span></span></strong><br />\n<span style="letter-spacing:.4pt\;"><span style="color:#333333\;"><em>Regional role in the overall energy landscape and visions for the future of energy\, power supply and grid reliability.</em><br />\nModerator:&nbsp\;<strong>Lt. Governor Brent Sanford</strong></span></span><br />\n<span style="background:#EFEEED\;"><span style="color:#333333\;">Panelists:</span></span><br />\n<strong><span style="color:#333333\;">Julie Fedorchak</span></strong><span style="color:#333333\;">\, Chair\, ND Public Service Commission</span><br />\n<strong><span style="color:#333333\;">Chris Clark</span></strong><span style="color:#333333\;">\, President\, MN ND &amp\; SD Xcel Energy</span><br />\n<strong><span style="color:#333333\;">Mac McLennan</span></strong><span style="color:#333333\;">\, President/CEO\, Minnkota Power Cooperative</span><br />\n<strong><span style="color:#333333\;">Brian Tulloh</span></strong><span style="color:#333333\;">\, Executive Director External Affairs\, MISO North</span><br />\n<strong><span style="letter-spacing:.4pt\;"><span style="color:#003399\;">9:15 a.m.</span></span></strong><br />\n<strong><span style="letter-spacing:.4pt\;"><span style="color:#333333\;">Speaker: Tony Clark</span></span></strong><span style="letter-spacing:.4pt\;"><span style="color:#333333\;">\, Senior Advisor\, Wilkinson Barker Knauer\, LLP<br />\n<em>&nbsp\;Electric Reliability and Resilience: Deconstructing the Texas and California Energy Crises &ndash\; Lessons for the Midwest</em></span></span><br />\n<strong><span style="color:#003399\;">9:30 a.m.</span></strong>&nbsp\;<br />\n<strong><span style="color:#333333\;">Panel: Energy Legislative Policy</span></strong><br />\n<em><span style="color:#333333\;">State and federal energy policy and its effect on the energy industry.</span></em><br />\n<span style="color:#333333\;">Moderator:<strong>&nbsp\;Stacey Dahl</strong>\, Senior Manager of External Affairs\, Minnkota Power Cooperative</span><br />\n<span style="color:#333333\;">Panelists:</span><br />\n<strong><span style="color:#333333\;">Sen. Jessica Bell</span></strong><span style="color:#333333\;">\, ND Senator\, District 33</span><br />\n<strong><span style="color:#333333\;">Rep. Pat Garofalo</span></strong><span style="color:#333333\;">\, MN Representative\, District 58B<br />\n<strong>Congressman Kelly Armstrong</strong>\, ND</span><br />\n<strong><span style="color:#003399\;">10:15 a.m.</span></strong>&nbsp\;<br />\n<strong><span style="color:#333333\;">Panel: Environmental\, Social and Governance (ESG) Energy Goals</span></strong><br />\n<span style="color:#333333\;"><em>Understanding ESG and the need for efficient\, affordable and sustainable energy solutions.</em><br />\nModerator:&nbsp\;<strong>James Leiman</strong>\, ND Commerce Commissioner<br />\nPanelists:</span><br />\n<strong><span style="color:#333333\;">John Di Donato</span></strong><span style="color:#333333\;">\, Vice President\, Development and Origination\, NextEra Energy Resources</span><br />\n<strong><span style="color:#333333\;">Al Rudeck</span></strong><span style="color:#333333\;">\, President\, ALLETE Clean Energy</span><br />\n<strong><span style="color:#333333\;">Barry Simonson</span></strong><span style="color:#333333\;">\, Director\, Line 3 Replacement Project\, Enbridge</span></span></span></p>\n
LOCATION:Livestream or Hilton Garden Inn 4351 17th Ave. S. Fargo\, ND 58103
UID:e.314.62109
SEQUENCE:3
DTSTAMP:20260421T123202Z
URL:https://business.fergusfalls.com/events/details/eggs-issues-midwest-energy-summit-62109
END:VEVENT

END:VCALENDAR
