BEGIN:VCALENDAR
VERSION:2.0
PRODID:-//ChamberMaster//Event Calendar 2.0//EN
METHOD:PUBLISH
X-PUBLISHED-TTL:P3D
REFRESH-INTERVAL:P3D
CALSCALE:GREGORIAN
BEGIN:VEVENT
DTSTART:20190517T230000Z
DTEND:20190518T010000Z
X-MICROSOFT-CDO-ALLDAYEVENT:FALSE
SUMMARY:Elks - First Fish Fry of the Season
DESCRIPTION:Mark your calendars!! Elks Point Bar & Grill opens for the season May 17\, 2019. First Fish Fry of the season!
X-ALT-DESC;FMTTYPE=text/html:<span style="text-align: center\; color: rgb(0\, 0\, 0)\; text-transform: none\; text-indent: 0px\; letter-spacing: normal\; font-family: Helvetica\, Arial\, sans-serif\; font-size: 30px\; font-style: normal\; font-weight: 700\; word-spacing: 0px\; float: none\; display: inline !important\; white-space: normal\; orphans: 2\; widows: 2\; background-color: rgb(255\, 255\, 255)\; font-variant-ligatures: normal\; font-variant-caps: normal\; -webkit-text-stroke-width: 0px\; text-decoration-style: initial\; text-decoration-color: initial\;">Mark your calendars!! Elks Point Bar &amp\; Grill opens for the season May 17\, 2019. First Fish Fry of the season!</span>
LOCATION:
UID:e.314.53879
SEQUENCE:3
DTSTAMP:20260423T050727Z
URL:https://business.fergusfalls.com/events/details/elks-first-fish-fry-of-the-season-53879
END:VEVENT

END:VCALENDAR
