BEGIN:VCALENDAR
VERSION:2.0
PRODID:-//ChamberMaster//Event Calendar 2.0//EN
METHOD:PUBLISH
X-PUBLISHED-TTL:P3D
REFRESH-INTERVAL:P3D
CALSCALE:GREGORIAN
BEGIN:VEVENT
DTSTART:20180713T230000Z
DTEND:20180714T010000Z
X-MICROSOFT-CDO-ALLDAYEVENT:FALSE
SUMMARY:Elks Fish Fry
DESCRIPTION:Elks Point Fish Fry
X-ALT-DESC;FMTTYPE=text/html:Elks Point Fish Fry
LOCATION:Elks Point 20970 Elks Point Rd. Fergus Falls MN 56537
UID:e.314.45941
SEQUENCE:3
DTSTAMP:20260423T195746Z
URL:https://business.fergusfalls.com/events/details/elks-fish-fry-07-13-2018-45941
END:VEVENT

END:VCALENDAR
