BEGIN:VCALENDAR
VERSION:2.0
PRODID:-//ChamberMaster//Event Calendar 2.0//EN
METHOD:PUBLISH
X-PUBLISHED-TTL:P3D
REFRESH-INTERVAL:P3D
CALSCALE:GREGORIAN
BEGIN:VEVENT
DTSTART;VALUE=DATE:20180525
DTEND;VALUE=DATE:20180526
TRANSP:TRANSPARENT
X-MICROSOFT-CDO-ALLDAYEVENT:TRUE
SUMMARY:Elks Steak or Chicken Fry
DESCRIPTION:Choice of Steak of Chicken
X-ALT-DESC;FMTTYPE=text/html:Choice of Steak of Chicken&nbsp\;
LOCATION:Elks Point 20970 Elks Point Rd. Fergus Falls MN 56537
UID:e.314.46141
SEQUENCE:3
DTSTAMP:20260423T225715Z
URL:https://business.fergusfalls.com/events/details/elks-steak-or-chicken-fry-46141
END:VEVENT

END:VCALENDAR
