BEGIN:VCALENDAR
VERSION:2.0
PRODID:-//ChamberMaster//Event Calendar 2.0//EN
METHOD:PUBLISH
X-PUBLISHED-TTL:P3D
REFRESH-INTERVAL:P3D
CALSCALE:GREGORIAN
BEGIN:VEVENT
DTSTART:20190117T143000Z
DTEND:20190117T193000Z
X-MICROSOFT-CDO-ALLDAYEVENT:FALSE
SUMMARY:Emergency! Finding Your Nonprofit's Role in a Crisis
DESCRIPTION:This workshop will explore your nonprofit's role in a major crisis\, from the moment a disaster strikes to recovery. We'll talk about your internal capacity to be prepared before\, during and after an emergency\, and steps to help you become a resilient nonprofit. Hosted by West Central Initiative and funded by the Philanthropic Preparedness\, Resiliency and Emergency Partnership.
X-ALT-DESC;FMTTYPE=text/html:<div class="_63ew" data-testid="event-permalink-details"><span>This workshop will explore your nonprofit&#39\;s role in a major crisis\, from the moment a disaster strikes to recovery. We&#39\;ll talk about your internal capacity to be prepared before\, during and after an emergency\, and steps to help you become a resilient nonprofit. Hosted by West Central Initiative and funded by the Philanthropic Preparedness\, Resiliency and Emergency Partnership.</span></div>\n
LOCATION:Bigwood Event Center 925 Western Ave Fergus Falls MN
UID:e.314.52269
SEQUENCE:3
DTSTAMP:20260423T105950Z
URL:https://business.fergusfalls.com/events/details/emergency-finding-your-nonprofit-s-role-in-a-crisis-52269
END:VEVENT

END:VCALENDAR
