BEGIN:VCALENDAR
VERSION:2.0
PRODID:-//ChamberMaster//Event Calendar 2.0//EN
METHOD:PUBLISH
X-PUBLISHED-TTL:P3D
REFRESH-INTERVAL:P3D
CALSCALE:GREGORIAN
BEGIN:VEVENT
DTSTART:20160119T003000Z
DTEND:20160119T043000Z
X-MICROSOFT-CDO-ALLDAYEVENT:FALSE
SUMMARY:Emergency Medical Technician Course
DESCRIPTION:EMT Class Monday and Thursday nights 6:30pm-10:30pm
X-ALT-DESC;FMTTYPE=text/html:EMT Class Monday and Thursday nights 6:30pm-10:30pm
LOCATION:Ringdahl Ambulance Garage 214 East Junius Ave Fergus Falls MN
UID:e.314.25100
SEQUENCE:3
DTSTAMP:20260425T214647Z
URL:https://business.fergusfalls.com/events/details/emergency-medical-technician-course-01-18-2016-25100
END:VEVENT

END:VCALENDAR
