BEGIN:VCALENDAR
VERSION:2.0
PRODID:-//ChamberMaster//Event Calendar 2.0//EN
METHOD:PUBLISH
X-PUBLISHED-TTL:P3D
REFRESH-INTERVAL:P3D
CALSCALE:GREGORIAN
BEGIN:VEVENT
DTSTART:20180122T211500Z
DTEND:20180122T223000Z
X-MICROSOFT-CDO-ALLDAYEVENT:FALSE
SUMMARY:Emerging Leader 2018 "Speed Networking" at M State
DESCRIPTION:Students enrolled in "Emerging Leader Experience" course will have a chance to meet with Chamber Members interested in serving as a Leadership Mentor.
X-ALT-DESC;FMTTYPE=text/html:Students enrolled in &quot\;Emerging Leader Experience&quot\; course will have a chance to meet with Chamber Members interested in serving as a Leadership Mentor.
LOCATION:Legacy Hall M State 1414 College Way Fergus Falls\, MN
UID:e.314.43573
SEQUENCE:3
DTSTAMP:20260424T060316Z
URL:https://business.fergusfalls.com/events/details/emerging-leader-2018-speed-networking-at-m-state-43573
END:VEVENT

END:VCALENDAR
