BEGIN:VCALENDAR
VERSION:2.0
PRODID:-//ChamberMaster//Event Calendar 2.0//EN
METHOD:PUBLISH
X-PUBLISHED-TTL:P3D
REFRESH-INTERVAL:P3D
CALSCALE:GREGORIAN
BEGIN:VEVENT
DTSTART:20190128T211500Z
DTEND:20190128T223000Z
X-MICROSOFT-CDO-ALLDAYEVENT:FALSE
SUMMARY:Emerging Leader 2019 "Speed Networking" at M State
DESCRIPTION:Students enrolled in "Emerging Leader Experience" course will have a chance to meet with Chamber Members interested in serving as a Leadership Mentor.\n\nMentors should bring business cards.\n\nClick Here for Emerging Leader Program Details
X-ALT-DESC;FMTTYPE=text/html:Students enrolled in &quot\;Emerging Leader Experience&quot\; course will have a chance to meet with Chamber Members interested in serving as a Leadership Mentor.<br />\nMentors should bring business cards.<br />\n<strong><a href="https://chambermaster.blob.core.windows.net/userfiles/UserFiles/chambers/314/File/EmergingLeaderProgramDetails2019.pdf">Click Here for Emerging Leader Program Details</a> </strong>
LOCATION:Park in Visitor Parking. Enter at Legacy Hall M State -- Room C330 1414 College Way Fergus Falls\, MN
UID:e.314.52454
SEQUENCE:3
DTSTAMP:20260423T105243Z
URL:https://business.fergusfalls.com/events/details/emerging-leader-2019-speed-networking-at-m-state-52454
END:VEVENT

END:VCALENDAR
