BEGIN:VCALENDAR
VERSION:2.0
PRODID:-//ChamberMaster//Event Calendar 2.0//EN
METHOD:PUBLISH
X-PUBLISHED-TTL:P3D
REFRESH-INTERVAL:P3D
CALSCALE:GREGORIAN
BEGIN:VEVENT
DTSTART:20170123T211500Z
DTEND:20170123T223000Z
X-MICROSOFT-CDO-ALLDAYEVENT:FALSE
SUMMARY:Emerging Leader "Speed Networking" at M State
DESCRIPTION:Students enrolled in LEAD1000 "Emerging Leader" will have a chance to meet with Chamber Members interested in serving as a Leadership Mentor.
X-ALT-DESC;FMTTYPE=text/html:Students enrolled in LEAD1000&nbsp\;&quot\;Emerging Leader&quot\; will have a chance to meet with Chamber Members interested in serving as a Leadership Mentor.
LOCATION:Legacy Hall M State 1414 College Way Fergus Falls\, MN
UID:e.314.37221
SEQUENCE:3
DTSTAMP:20260425T002727Z
URL:https://business.fergusfalls.com/events/details/emerging-leader-speed-networking-at-m-state-37221
END:VEVENT

END:VCALENDAR
