BEGIN:VCALENDAR
VERSION:2.0
PRODID:-//ChamberMaster//Event Calendar 2.0//EN
METHOD:PUBLISH
X-PUBLISHED-TTL:P3D
REFRESH-INTERVAL:P3D
CALSCALE:GREGORIAN
BEGIN:VEVENT
DTSTART:20171013T170000Z
DTEND:20171013T190000Z
X-MICROSOFT-CDO-ALLDAYEVENT:FALSE
SUMMARY:Emotional Platings
DESCRIPTION:Emotional Platings is a series of picnic kits from trees that heal specific emotions\, identified in the Bach Flower Essence philosophy developed by Edward Bach in the 1940s. Each picnic kit includes a blanket\, servingware crafted by the artist\, a notecard with conversational prompts\, and a notebook. The public will check out a specific kit in advance\, asked to bring food to share\, and then paired with a stranger based on the emotion they have selected. Having grown up in rural Minnesota\, Hirsch hopes to explore the rural/urban divide by traveling to 5 rural towns throughout Minnesota\, asking 160 people to check out a kit and explore emotion together. Event is free but please rsvp using link below: https://www.eventbrite.com/e/emotional-platings-fergus-falls-tickets-37913774119?aff=efbeventtix
X-ALT-DESC;FMTTYPE=text/html:Emotional Platings is a series of picnic kits from trees that heal specific emotions\, identified in the Bach Flower Essence philosophy developed by Edward Bach in the 1940s. Each picnic kit includes a blanket\, servingware crafted by the artist\, a notecard with conversational prompts\, and a notebook. The public will check out a specific kit in advance\, asked to bring food to share\, and then paired with a stranger based on the emotion they have selected. Having grown up in rural Minnesota\, Hirsch hopes to explore the rural/urban divide by traveling to 5 rural towns throughout Minnesota\, asking 160 people to check out a kit and explore emotion together. Event is free but please rsvp using link below: https://www.eventbrite.com/e/emotional-platings-fergus-falls-tickets-37913774119?aff=efbeventtix
LOCATION:Robert Hannah Park Fergus Falls\, Minnesota 56537
UID:e.314.42854
SEQUENCE:3
DTSTAMP:20260424T092412Z
URL:https://business.fergusfalls.com/events/details/emotional-platings-42854
END:VEVENT

END:VCALENDAR
