BEGIN:VCALENDAR
VERSION:2.0
PRODID:-//ChamberMaster//Event Calendar 2.0//EN
METHOD:PUBLISH
X-PUBLISHED-TTL:P3D
REFRESH-INTERVAL:P3D
CALSCALE:GREGORIAN
BEGIN:VEVENT
DTSTART:20190301T180000Z
DTEND:20190301T180000Z
X-MICROSOFT-CDO-ALLDAYEVENT:FALSE
SUMMARY:Employee Appreciate Day
DESCRIPTION:Employee Appreciate Day
X-ALT-DESC;FMTTYPE=text/html:Employee Appreciate Day
LOCATION:
UID:e.314.52486
SEQUENCE:3
DTSTAMP:20260423T080158Z
URL:https://business.fergusfalls.com/events/details/employee-appreciate-day-52486
END:VEVENT

END:VCALENDAR
