BEGIN:VCALENDAR
VERSION:2.0
PRODID:-//ChamberMaster//Event Calendar 2.0//EN
METHOD:PUBLISH
X-PUBLISHED-TTL:P3D
REFRESH-INTERVAL:P3D
CALSCALE:GREGORIAN
BEGIN:VEVENT
DTSTART:20200204T170000Z
DTEND:20200204T190000Z
X-MICROSOFT-CDO-ALLDAYEVENT:FALSE
SUMMARY:Employee Engagement: How to Increase\, Measure & Improve it
DESCRIPTION:Regster here: https://www.greaterfergusfalls.com/dual-training\n\n\n\nEmployee Engagement is a term that has been around for a long time and has been used by companies to determine how connected an employee feels to the company and how vested they are in the success of the company. \n\n\n\nAre they working just for the paycheck or do they care about contributing to the overall success of the company? Are they willing to go "above and beyond" or do they do the bare minimum? An engaged employee will provide better customer service\, generate more sales\, promote the business\, and genuinely want to stay and grow their career with you. \n\n\n\nLooking at the HR metrics of your company\, along with creating and administering an employee survey\, will help to measure your current level of engagement. Once you know where you are at\, you can design the roadmap for where you want to go. While there is no "magic bullet" to high employee engagement\, we will give you some ideas and tips that you can use to drive your engagement in the right direction   up!
X-ALT-DESC;FMTTYPE=text/html:<span style="color: rgb(29\, 33\, 41)\; font-family: helvetica\,arial\,sans-serif\; font-size: 14px\; background-color: rgb(255\, 255\, 255)\;">Regster here: </span><a href="https://l.facebook.com/l.php?u=https%3A%2F%2Fwww.greaterfergusfalls.com%2Fdual-training%3Ffbclid%3DIwAR2bfnWamiv-si3NpHttqTDw3wuzzMIDAcZ7MxO4M1L0bTl7VvTKvE-SZaU&amp\;h=AT0FX3fkfb4fQpFkfSBegND4oWcQUIv-rA5ouapc9Cx3vghv-ETCZMCNvl66WZ5UwYpGfBUroLNNPTEUZ_F7KehQhMThzKlI04u7rOdY__gRZ97Hy6Z1k4ESir0U3a2I0Q" rel="nofollow noopener" style="color: rgb(56\, 88\, 152)\; font-family: Helvetica\, Arial\, sans-serif\; font-size: 14px\; white-space: pre-wrap\; cursor: pointer\; background-color: rgb(255\, 255\, 255)\; text-decoration-line: none\;" target="_blank">https://www.greaterfergusfalls.com/dual-training</a><br />\n<br />\n<span style="color: rgb(29\, 33\, 41)\; font-family: helvetica\,arial\,sans-serif\; font-size: 14px\; background-color: rgb(255\, 255\, 255)\;">Employee Engagement is a term that has been around for a long time and has been used by companies to determine how connected an employee feels to the company and how vested they are in the success of the company. </span><br />\n<br />\n<span style="color: rgb(29\, 33\, 41)\; font-family: helvetica\,arial\,sans-serif\; font-size: 14px\; background-color: rgb(255\, 255\, 255)\;">Are they working just for the paycheck or do they care about contributing to the overall success of the company? Are they willing to go &ldquo\;above and beyond&rdquo\; or do they do the bare minimum? An engaged employee will provide better customer service\, generate more sales\, promote the business\, and genuinely want to stay and grow their career with you. </span><br />\n<br />\n<span style="color: rgb(29\, 33\, 41)\; font-family: helvetica\,arial\,sans-serif\; font-size: 14px\; background-color: rgb(255\, 255\, 255)\;">Looking at the HR metrics of your company\, along with creating and administering an employee survey\, will help to measure your current level of engagement. Once you know where you are at\, you can design the roadmap for where you want to go. While there is no &ldquo\;magic bullet&rdquo\; to high employee engagement\, we will give you some ideas and tips that you can use to drive your engagement in the right direction &ndash\; up!</span>\n<div>&nbsp\;</div>\n
LOCATION:M State Fergus Falls Room S436
UID:e.314.56106
SEQUENCE:3
DTSTAMP:20260422T142952Z
URL:https://business.fergusfalls.com/events/details/employee-engagement-how-to-increase-measure-improve-it-56106
END:VEVENT

END:VCALENDAR
