BEGIN:VCALENDAR
VERSION:2.0
PRODID:-//ChamberMaster//Event Calendar 2.0//EN
METHOD:PUBLISH
X-PUBLISHED-TTL:P3D
REFRESH-INTERVAL:P3D
CALSCALE:GREGORIAN
BEGIN:VEVENT
DTSTART:20160521T230000Z
DTEND:20160522T003000Z
X-MICROSOFT-CDO-ALLDAYEVENT:FALSE
SUMMARY:Enchanted Fairy Ball
DESCRIPTION:We're excited to announce the 2nd Annual Daddy Daughter Dance in Fergus Falls! We welcome all little girls and their fathers (or significant male in their lives) to join us for a fun evening of dancing. We will have a live DJ\, a professional photographer\, and light refreshments. Each girl will receive 1 free digital copy of a posed picture with her daddy.
X-ALT-DESC;FMTTYPE=text/html:We&#39\;re excited to announce the 2nd Annual Daddy Daughter Dance in Fergus Falls! We welcome all little girls and their fathers (or significant male in their lives) to join us for a fun evening of dancing. We will have a live DJ\, a professional photographer\, and light refreshments. Each girl will receive 1 free digital copy of a posed picture with her daddy.
LOCATION:Hillcrest Activities Center
UID:e.314.32619
SEQUENCE:3
DTSTAMP:20260425T145538Z
URL:https://business.fergusfalls.com/events/details/enchanted-fairy-ball-05-21-2016-32619
END:VEVENT

END:VCALENDAR
