BEGIN:VCALENDAR
VERSION:2.0
PRODID:-//ChamberMaster//Event Calendar 2.0//EN
METHOD:PUBLISH
X-PUBLISHED-TTL:P3D
REFRESH-INTERVAL:P3D
CALSCALE:GREGORIAN
BEGIN:VEVENT
DTSTART;VALUE=DATE:20200127
DTEND;VALUE=DATE:20200128
TRANSP:TRANSPARENT
X-MICROSOFT-CDO-ALLDAYEVENT:TRUE
SUMMARY:Endless Scroll Art Exhibit
DESCRIPTION:Endless Scroll...\n\nEnjoy the work of self-taught water-medium artist and Fergus Falls resident Nancy XiaoRong Valentine\, who draws technical inspiration from her Chinese heritage. An artists' reception is scheduled on Thursday\, February 6 from 2-4pm in Legacy Hall.
X-ALT-DESC;FMTTYPE=text/html:Endless Scroll...<br />\nEnjoy the work of self-taught water-medium artist and Fergus Falls resident Nancy XiaoRong Valentine\, who draws technical inspiration from her Chinese heritage. An artists&#39\; reception is scheduled on Thursday\, February 6 from 2-4pm in Legacy Hall.
LOCATION:Waage Gallery Minnesota State Community & Technical College 1414 College Way Fergus Falls
UID:e.314.56153
SEQUENCE:3
DTSTAMP:20260422T171909Z
URL:https://business.fergusfalls.com/events/details/endless-scroll-art-exhibit-01-27-2020-56153
END:VEVENT

END:VCALENDAR
