BEGIN:VCALENDAR
VERSION:2.0
PRODID:-//ChamberMaster//Event Calendar 2.0//EN
METHOD:PUBLISH
X-PUBLISHED-TTL:P3D
REFRESH-INTERVAL:P3D
CALSCALE:GREGORIAN
BEGIN:VEVENT
DTSTART:20180328T233000Z
DTEND:20180329T023000Z
X-MICROSOFT-CDO-ALLDAYEVENT:FALSE
SUMMARY:Equal Means Equal: Film Screening and Panel Conversation
DESCRIPTION:Everyone is welcome to watch this free screening of Equal Means Equal\, the definitive documentary film on the status of women in America. Immediately following the film\, Dr. Kandace Creel Falc n\, Associate Professor of Women's and Gender Studies at Minnesota State Moorhead\, will facilitate a conversation with panelists and the community. Sponsored by MState and Fergus Falls Area Chapter of NOW.
X-ALT-DESC;FMTTYPE=text/html:Everyone is welcome to watch this free screening of Equal Means Equal\, the definitive documentary film on the status of women in America. Immediately following the film\, Dr. Kandace Creel Falc&oacute\;n\, Associate Professor of Women&#39\;s and Gender Studies at Minnesota State Moorhead\, will facilitate a conversation with panelists and the community. Sponsored by MState and Fergus Falls Area Chapter of NOW.
LOCATION:Waage Theater\, MState Campus 1414 College Way Fergus Falls\, MN 56537
UID:e.314.44933
SEQUENCE:3
DTSTAMP:20260424T012204Z
URL:https://business.fergusfalls.com/events/details/equal-means-equal-film-screening-and-panel-conversation-44933
END:VEVENT

END:VCALENDAR
