BEGIN:VCALENDAR
VERSION:2.0
PRODID:-//ChamberMaster//Event Calendar 2.0//EN
METHOD:PUBLISH
X-PUBLISHED-TTL:P3D
REFRESH-INTERVAL:P3D
CALSCALE:GREGORIAN
BEGIN:VEVENT
DTSTART:20190523T160000Z
DTEND:20190523T190000Z
X-MICROSOFT-CDO-ALLDAYEVENT:FALSE
SUMMARY:Equity Logic for Growing Business
DESCRIPTION:Equity Logic for Growing Business\n\nBuild and retain a resilient and reliable workforce to grow your business.\n\nJoin us for an interactive learning experience and develop practical skills\n\nfor creating effective teams across cultures\, identities\, and generations.
X-ALT-DESC;FMTTYPE=text/html:Equity Logic for Growing Business<br />\nBuild and retain a resilient and reliable workforce to grow your business.<br />\nJoin us for an interactive learning experience and develop practical skills<br />\nfor creating effective teams across cultures\, identities\, and generations.<br />\n&nbsp\;
LOCATION:Hjemkomst Center 202 1st Avenue North Moorhead\, MN
UID:e.314.53957
SEQUENCE:3
DTSTAMP:20260423T062917Z
URL:https://business.fergusfalls.com/events/details/equity-logic-for-growing-business-53957
END:VEVENT

END:VCALENDAR
