BEGIN:VCALENDAR
VERSION:2.0
PRODID:-//ChamberMaster//Event Calendar 2.0//EN
METHOD:PUBLISH
X-PUBLISHED-TTL:P3D
REFRESH-INTERVAL:P3D
CALSCALE:GREGORIAN
BEGIN:VEVENT
DTSTART:20151021T003000Z
DTEND:20151021T013000Z
X-MICROSOFT-CDO-ALLDAYEVENT:FALSE
SUMMARY:Evening Zumba @ Anytime Fitness
DESCRIPTION:Evening Zumba @ Anytime\n\n7:30 pm -8:30 pm\n\nTues & Thur Evenings in October
X-ALT-DESC;FMTTYPE=text/html:<strong>Evening Zumba @ Anytime<br />\n7:30 pm -8:30 pm<br />\nTues &amp\; Thur Evenings in October </strong>
LOCATION:Anytime Fitness 120 1/2 West Cavour City Center Mall Fergus Falls\, MN 56537 (218) 998-4424
UID:e.314.24869
SEQUENCE:3
DTSTAMP:20260426T030613Z
URL:https://business.fergusfalls.com/events/details/evening-zumba-anytime-fitness-10-20-2015-24869
END:VEVENT

END:VCALENDAR
