BEGIN:VCALENDAR
VERSION:2.0
PRODID:-//ChamberMaster//Event Calendar 2.0//EN
METHOD:PUBLISH
X-PUBLISHED-TTL:P3D
REFRESH-INTERVAL:P3D
CALSCALE:GREGORIAN
BEGIN:VEVENT
DTSTART:20160708T210000Z
DTEND:20160709T000000Z
X-MICROSOFT-CDO-ALLDAYEVENT:FALSE
SUMMARY:Exhibit Opening - Phelps Mill\, Artwork by Mary Jo Wentz
DESCRIPTION:Exhibit Opening - Phelps Mill\, Artwork by Mary Jo Wentz. Exhibit opening reception with painting demonstration.
X-ALT-DESC;FMTTYPE=text/html:Exhibit Opening - Phelps Mill\, Artwork by Mary Jo Wentz. Exhibit opening reception with painting demonstration.
LOCATION:Otter Tail County Historical Society\, 1110 W Lincoln Ave\, Fergus Falls\, MN 56537
UID:e.314.32854
SEQUENCE:3
DTSTAMP:20260425T112105Z
URL:https://business.fergusfalls.com/events/details/exhibit-opening-phelps-mill-artwork-by-mary-jo-wentz-07-08-2016-32854
END:VEVENT

END:VCALENDAR
