BEGIN:VCALENDAR
VERSION:2.0
PRODID:-//ChamberMaster//Event Calendar 2.0//EN
METHOD:PUBLISH
X-PUBLISHED-TTL:P3D
REFRESH-INTERVAL:P3D
CALSCALE:GREGORIAN
BEGIN:VEVENT
DTSTART:20180321T233000Z
DTEND:20180322T010000Z
X-MICROSOFT-CDO-ALLDAYEVENT:FALSE
SUMMARY:Exploring First Night
DESCRIPTION:Planning on going to college for nursing or something related to healthcare? Students in grades 10\, 11\, and 12 \, interested in the healthcare field and learning various medical professions are invited to attend! Bring your friends!\n\nExploring Lake Region Healthcare will offer Students the opportunity to learn and experience many different areas of healthcare. We have all sorts of areas in the hospital from Nursing\, to Pathology\, Sports Medicine to Radiology\, and many other departments!\n\nStudents will participate in several hands on activities and have the opportunity to visit with professionals in various areas of the hospital.
X-ALT-DESC;FMTTYPE=text/html:<span class="_4n-j _3cht fsl" data-testid="event-permalink-details">Planning on going to college for nursing or something related to healthcare? Students in grades 10\, 11\, and 12 \, interested in the healthcare field and learning various medical professions are invited to attend! Bring your friends!<br />\nExploring Lake Region Healthcare will offer Students the opportunity to learn and experience many different areas of healthcare. We have all sorts of areas in the hospital from Nursing\, to Pathology\, Sports Medicine to Radiology\, and many other departments!<br />\nStudents will participate in several hands on activities and have the opportunity to visit with professionals in various areas of the hospital.</span>
LOCATION:Lake Region Healthcare 712 S Cascade St Fergus Falls
UID:e.314.44972
SEQUENCE:3
DTSTAMP:20260424T011922Z
URL:https://business.fergusfalls.com/events/details/exploring-first-night-44972
END:VEVENT

END:VCALENDAR
