BEGIN:VCALENDAR
VERSION:2.0
PRODID:-//ChamberMaster//Event Calendar 2.0//EN
METHOD:PUBLISH
X-PUBLISHED-TTL:P3D
REFRESH-INTERVAL:P3D
CALSCALE:GREGORIAN
BEGIN:VEVENT
DTSTART:20181020T160000Z
DTEND:20181020T180000Z
X-MICROSOFT-CDO-ALLDAYEVENT:FALSE
SUMMARY:ExSalonce Customer Appreciation Day
DESCRIPTION:Please join the staff and customers of ExSalonce as they celebrate their 20 year anniversary. Enjoy pastries from It Takes the Cake in Battle Lake and other refreshments. There will be great deals on Mirabella makeup and some other great vendors. Thank you all for your support throughout the years.
X-ALT-DESC;FMTTYPE=text/html:Please join the staff and customers of ExSalonce as they celebrate their 20 year anniversary. Enjoy pastries from It Takes the Cake in Battle Lake and other refreshments. There will be great deals on Mirabella makeup and some other great vendors. Thank you all for your support throughout the years.
LOCATION:ExSalonce 1411 College Way Fergus Falls\, MN
UID:e.314.50622
SEQUENCE:3
DTSTAMP:20260423T163324Z
URL:https://business.fergusfalls.com/events/details/exsalonce-customer-appreciation-day-50622
END:VEVENT

END:VCALENDAR
