BEGIN:VCALENDAR
VERSION:2.0
PRODID:-//ChamberMaster//Event Calendar 2.0//EN
METHOD:PUBLISH
X-PUBLISHED-TTL:P3D
REFRESH-INTERVAL:P3D
CALSCALE:GREGORIAN
BEGIN:VEVENT
DTSTART;VALUE=DATE:20161203
DTEND;VALUE=DATE:20161216
TRANSP:TRANSPARENT
X-MICROSOFT-CDO-ALLDAYEVENT:TRUE
SUMMARY:Extended Holiday Hours at Mauk Jewelers
DESCRIPTION:For your shopping convenience\, Mauk Jewelers will be extending their regular business hours for the holiday.\n\n\n\nExtended hours include:\n\nSaturday\, December 3rd: 9:30am-5:00pm\n\nSaturday\, December 10th: 9:30am-5:00pm\n\nSaturday\, December 17th: 9:30am-5:00pm\n\nSaturday\, December 24th: 9:30am-3:00pm\n\n\n\nand starting Thursday\, December 15th\, we will be open weekdays from 9:30am-7:00pm.\n\n\n\nMerry Christmas and Happy Holidays!
X-ALT-DESC;FMTTYPE=text/html:For your shopping convenience\, Mauk Jewelers will be extending their regular business hours for the holiday.<br />\n<br />\nExtended hours include:<br />\nSaturday\, December 3rd: 9:30am-5:00pm<br />\nSaturday\, December 10th: 9:30am-5:00pm<br />\nSaturday\, December 17th: 9:30am-5:00pm<br />\nSaturday\, December 24th: 9:30am-3:00pm<br />\n<br />\nand starting Thursday\, December 15th\, we will be open weekdays from 9:30am-7:00pm.<br />\n<br />\nMerry Christmas and Happy Holidays!
LOCATION:Mauk Jewelers 103 W. Lincoln Ave. Fergus Falls\, MN 56537
UID:e.314.37212
SEQUENCE:3
DTSTAMP:20260425T022553Z
URL:https://business.fergusfalls.com/events/details/extended-holiday-hours-at-mauk-jewelers-37212
END:VEVENT

END:VCALENDAR
