BEGIN:VCALENDAR
VERSION:2.0
PRODID:-//ChamberMaster//Event Calendar 2.0//EN
METHOD:PUBLISH
X-PUBLISHED-TTL:P3D
REFRESH-INTERVAL:P3D
CALSCALE:GREGORIAN
BEGIN:VEVENT
DTSTART:20150922T163000Z
DTEND:20150922T183000Z
X-MICROSOFT-CDO-ALLDAYEVENT:FALSE
SUMMARY:Facilitative Leadership
DESCRIPTION:Facilitative Leadership Interested in better meetings? Come and experience the ToP Focused Conversation (www.ica-usa.org)\, a facilitation method that has helped many managers and community leaders develop a key facilitation skill: asking the right questions. Learn how to increase your ability to plan\, prepare and use key questions to facilitate better meetings. With other participants\, you will also identify key techniques and tools to improve your meetings. You will leave with sample questions to facilitate a focused conversation at your next meeting.\n\nFacilitated by Rachel Hefte.
X-ALT-DESC;FMTTYPE=text/html:Facilitative Leadership Interested in better meetings? Come and experience the ToP Focused Conversation (www.ica-usa.org)\, a facilitation method that has helped many managers and community leaders develop a key facilitation skill: asking the right questions. Learn how to increase your ability to plan\, prepare and use key questions to facilitate better meetings. With other participants\, you will also identify key techniques and tools to improve your meetings. You will leave with sample questions to facilitate a focused conversation at your next meeting.<br />\nFacilitated by Rachel Hefte.
LOCATION:Lakes Country Service Cooperative 1001 East Mount Faith Fergus Falls\, MN
UID:e.314.22565
SEQUENCE:3
DTSTAMP:20260426T043809Z
URL:https://business.fergusfalls.com/events/details/facilitative-leadership-09-22-2015-22565
END:VEVENT

END:VCALENDAR
