BEGIN:VCALENDAR
VERSION:2.0
PRODID:-//ChamberMaster//Event Calendar 2.0//EN
METHOD:PUBLISH
X-PUBLISHED-TTL:P3D
REFRESH-INTERVAL:P3D
CALSCALE:GREGORIAN
BEGIN:VEVENT
DTSTART:20170308T233000Z
DTEND:20170309T000000Z
X-MICROSOFT-CDO-ALLDAYEVENT:FALSE
SUMMARY:Faith Story - Stephanie Hoff
DESCRIPTION:Stephanie Hoff will be sharing her faith story this Wednesday\, March 8th at Federated Church! Join us at 5:30pm to hear her story and be encouraged in your own faith. Supper is served at 6pm\, and is provided by the Men's Club. (Supper is free-will donation).\n\nJohn MacFarlane's famous Beef Stew will be served this week.\n\n\n\nStephanie graduated from Fergus Falls High School in June 1996 and from the University of Minnesota\, Morris\, in June 1999. married her high school sweetheart\, Nathan Hoff\, at Federated Church in Fergus Falls in October 1999. They have a beautiful daughter\, Ayla\, who was born in June 2009 and baptized at Federated Church.\n\n\n\nShe is the Public Relations Manager for Otter Tail Power Company. She ov...ersees the print shop\, multi-media coordinator\, and team of communications specialists that develops strategies to ensure that communication is timely and easy to understand\, builds and protects the Otter Tail Power Company and Otter Tail Corporation brands\, and facilitates project-specific and emergency-response communication.\n\n\n\nStephanie enjoys being outdoors with her husband and daughter\, spending time with family and friends\, and maintaining physical and mental strength through CrossFit. Sometimes she dreams about having a few quiet hours simply to read\, which sounds like heaven.\n\n\n\nMark your calendars for the following weeks!\n\nMarch 15 | Tessa Vogel (supper: pork loin)\n\nMarch 22 | Abby MacFarlane (supper: Guatemalan themed)\n\nMarch 29 | Stacia (Harrington) Sytsma (supper: meatballs)\n\nApril 5 | Pam Phillips (supper: scalloped potatoes & ham)
X-ALT-DESC;FMTTYPE=text/html:<div class="text_exposed_root text_exposed" id="id_58bedd0e990338558256716"><span class="_4n-j _3cht fsl" data-testid="event-permalink-details">Stephanie Hoff will be sharing her faith story this Wednesday\, March 8th at Federated Church! Join us at 5:30pm to hear her story and be encouraged in your own faith. Supper is served at 6pm\, and is provided by the Men&#39\;s Club. (Supper is free-will donation).<br />\nJohn MacFarlane&#39\;s famous Beef Stew will be served this week.<br />\n<br />\nStephanie graduated from Fergus Falls High School in June 1996 and from the University of Minnesota\, Morris\, in June 1999. married her high school sweetheart\, Nathan Hoff\, at Federated Church in Fergus Falls in October 1999. They have a beautiful daughter\, Ayla\, who was born in June 2009 and baptized at Federated Church.<br />\n<br />\nShe is the Public Relations Manager for Otter Tail Power Company. She ov<span class="text_exposed_hide">...</span><span class="text_exposed_show">ersees the print shop\, multi-media coordinator\, and team of communications specialists that develops strategies to ensure that communication is timely and easy to understand\, builds and protects the Otter Tail Power Company and Otter Tail Corporation brands\, and facilitates project-specific and emergency-response communication.<br />\n<br />\nStephanie enjoys being outdoors with her husband and daughter\, spending time with family and friends\, and maintaining physical and mental strength through CrossFit. Sometimes she dreams about having a few quiet hours simply to read\, which sounds like heaven.<br />\n<br />\nMark your calendars for the following weeks!<br />\nMarch 15 | Tessa Vogel (supper: pork loin)<br />\nMarch 22 | Abby MacFarlane (supper: Guatemalan themed)<br />\nMarch 29 | Stacia (Harrington) Sytsma (supper: meatballs)<br />\nApril 5 | Pam Phillips (supper: scalloped potatoes &amp\; ham)</span></span></div>\n
LOCATION:Show Map Hide Map The Federated Church of Fergus Falls 224 N Union Ave\, Fergus Falls\, Minnesota 56537 Report Religious Organization (218) 739-3227 Get Directions About About Discussion Discussion 4 Going 9 InterestedSee All Paige\, Sarah and 2 other friends are going Share Details Stephanie Hoff will be sharing her faith story this Wednesday\, March 8th at Federated Church! Join us at 5:30pm to hear her story and be encouraged in your own faith. Supper is served at 6pm\, and is provided by the Men's Club. (Supper is free-will donation). John MacFarlane's famous Beef Stew will be served this week. Stephanie graduated from Fergus Falls High School in June 1996 and from the University of Minnesota\, Morris\, in June 1999. married her high school sweetheart\, Nathan Hoff\, at Federated Church in Fergus Falls in October 1999. They have a beautiful daughter\, Ayla\, who was born in June 2009 and baptized at Federated Church. She is the Public Relations Manager for Otter Tail Power Company. She ov...ersees the print shop\, multi-media coordinator\, and team of communications specialists that develops strategies to ensure that communication is timely and easy to understand\, builds and protects the Otter Tail Power Company and Otter Tail Corporation brands\, and facilitates project-specific and emergency-response communication. Stephanie enjoys being outdoors with her husband and daughter\, spending time with family and friends\, and maintaining physical and mental strength through CrossFit. Sometimes she dreams about having a few quiet hours simply to read\, which sounds like heaven. Mark your calendars for the following weeks! March 15 | Tessa Vogel (supper: pork loin) March 22 | Abby MacFarlane (supper: Guatemalan themed) March 29 | Stacia (Harrington) Sytsma (supper: meatballs) April 5 | Pam Phillips (supper: scalloped potatoes & ham) See More Recent Posts Chelsea Krueger Cruz Is this a kid/baby friendly event? :) Would love to hear your story! 11 hrs Read More Cathy Davidson I am in Colorado. So sorry to miss this! 12 hrs Read More Melissa Lund Hexum I wish I could be there to hear you speak Stephanie. There's no doubt you will be amazing. 12 hrs Read More See All Posts About the Venue The Federated Church of Fergus Falls Religious Organization 240 Likes Go to Page Event at The Federated Church of Fergus Falls MAR8 Interested Faith Stories Lenten Service Series Mar 8 - Mar 22 1 person is going Read More See All Events 4 posts in the discussion. See Discussion Suggested Events See More Suggested Events Women of Otter Tail County Thursday CST at Fergus Falls Public Library Talk Shared to Fergus Falls Area Garage Sales and Public Events You're going. You saved this event You're interested. Share Interested Going Buyer Seminar- LUNCH and LEARN Thu Mar 16 CDT at Ryan Hanson Homes- Keller Williams Realty Professionals 3 guests You're going. You saved this event You're interested. Share Interested Going Working Land with Jon Solinger Tomorrow CST at Fergus Falls Public Library 2 guests You're going. You saved this event You're interested. Share Interested Going Book Sale: Friends Members Preview Sale Thu Apr 27 CDT at Fergus Falls Public Library Books 4 guests You're going. You saved this event You're interested. Share Interested Going Mother Goose Mondays Mon Mar 20 CDT at Fergus Falls Public Library Family 2 guests You're going. You saved this event You're interested. Share Interested Going Mother Goose Mondays Mon Apr 3 CDT at Fergus Falls Public Library Family 2 guests You're going. You saved this event You're interested. Share Interested Going About Create Ad Create Page Developers Careers Privacy Cookies Ad Choices Terms Help Settings Activity Log Facebook 2017 English (US) Espa ol Fran ais (France) ( ) Portugu s (Brasil) Italiano Deutsch Invite Friends Share in News Feed Share in Messenger Invite Friends Share in News Feed Share in Messenger Invite Friends Share in News Feed Share in Messenger Invite Friends Share in News Feed Share in Messenger Invite Friends Share in News Feed Share in Messenger Invite Friends Share in News Feed Share in Messenger Invite Friends Share in News Feed Share in Messenger Invite Friends Share in News Feed Share in Messenger Close popup and return Share Share to a Page Search for @NaturesGardenWorld on Facebook or in Messenger to find this Page easily. Invite Friends Share in News Feed Share in Messenger The Federated Church of Fergus Falls @openheartsmindsarms Religious Organization 240 likes Fergus Falls 4.7 Open Now (218) 739-3227 Recent Photos See All Liked Following Message Tab to access contents in the dialog Chat with friends Turn on chat to see who's available. Show Map The Federated Church of Fergus Falls 224 N Union Ave\, Fergus Falls\, Minnesota 56537
UID:e.314.38810
SEQUENCE:3
DTSTAMP:20260424T210210Z
URL:https://business.fergusfalls.com/events/details/faith-story-stephanie-hoff-38810
END:VEVENT

END:VCALENDAR
