BEGIN:VCALENDAR
VERSION:2.0
PRODID:-//ChamberMaster//Event Calendar 2.0//EN
METHOD:PUBLISH
X-PUBLISHED-TTL:P3D
REFRESH-INTERVAL:P3D
CALSCALE:GREGORIAN
BEGIN:VEVENT
DTSTART:20171007T150000Z
DTEND:20171007T220000Z
X-MICROSOFT-CDO-ALLDAYEVENT:FALSE
SUMMARY:Fall Festival
DESCRIPTION:Join us!!         \n\nOur 2017 Fall Festival will happen on Saturday\, October 7th from 10am-5pm and we are excited to have to LOTS OF FUN things going on at MGB. \n\n\n\n Our 8 acre Corn Maze will be open for $5 per person (as always\, kids 5 years old and younger are free). \n\n LIVE MUSIC ON OUR STAGE THROUGHOUT THE DAY!!! Stay and enjoy the tunes. \n\n Grab a bag of our freshly popped kettle corn for $5 each. \n\n The award winning "Cornfield BBQ Rig" from The Cornfield Cafe will be here all day dishing up mouth watering meals.....come\, sit and taste some of the BEST BBQ around! \n\n Shop over 30 varieties of pumpkins and gourds\, tons of Fall decor and lots of great 'no carve' ideas. \n\n Relaxing\, clean picnic area.\n\n KJ Country 96.5 with Leighton Broadcasting In Fergus Falls will be here broadcasting LIVE!\n\n Get registered for a     $100 GIFT CERTIFICATE and FREE DEER PROCESSING (up to $150 value)     from Fergus Locker Plant\, LLC!\n\n Hayrides will be available all day\, as well. \n\n Numerous places to take memorable pictures.\n\n FREE professional Face Painting will be taking place throughout the day (free for 2 hours then available for a fee after that).\n\n\n\nWe are so pleased to be able to create an event for you to come\, relax and spend time with your family and friends at Mother\, Goose & Bean's.
X-ALT-DESC;FMTTYPE=text/html:<span style="color: rgb(75\, 79\, 86)\; text-transform: none\; text-indent: 0px\; letter-spacing: normal\; font-family: Helvetica\, Arial\, sans-serif\; font-size: 14px\; font-style: normal\; font-weight: normal\; word-spacing: 0px\; float: none\; display: inline !important\; white-space: normal\; orphans: 2\; widows: 2\; background-color: rgb(255\, 255\, 255)\; font-variant-ligatures: normal\; font-variant-caps: normal\; -webkit-text-stroke-width: 0px\; text-decoration-style: initial\; text-decoration-color: initial\;">Join us!! &#55356\;&#57219\;&#55356\;&#57219\;&#55356\;&#57219\;&#55356\;&#57219\;</span><br style="color: rgb(75\, 79\, 86)\; text-transform: none\; text-indent: 0px\; letter-spacing: normal\; font-family: Helvetica\, Arial\, sans-serif\; font-size: 14px\; font-style: normal\; font-weight: normal\; word-spacing: 0px\; white-space: normal\; orphans: 2\; widows: 2\; background-color: rgb(255\, 255\, 255)\; font-variant-ligatures: normal\; font-variant-caps: normal\; -webkit-text-stroke-width: 0px\; text-decoration-style: initial\; text-decoration-color: initial\;" />\n<span style="color: rgb(75\, 79\, 86)\; text-transform: none\; text-indent: 0px\; letter-spacing: normal\; font-family: Helvetica\, Arial\, sans-serif\; font-size: 14px\; font-style: normal\; font-weight: normal\; word-spacing: 0px\; float: none\; display: inline !important\; white-space: normal\; orphans: 2\; widows: 2\; background-color: rgb(255\, 255\, 255)\; font-variant-ligatures: normal\; font-variant-caps: normal\; -webkit-text-stroke-width: 0px\; text-decoration-style: initial\; text-decoration-color: initial\;">Our 2017 Fall Festival will happen on Saturday\, October 7th from 10am-5pm and we are excited to have to LOTS OF FUN things going on at MGB.<span>&nbsp\;</span></span><br style="color: rgb(75\, 79\, 86)\; text-transform: none\; text-indent: 0px\; letter-spacing: normal\; font-family: Helvetica\, Arial\, sans-serif\; font-size: 14px\; font-style: normal\; font-weight: normal\; word-spacing: 0px\; white-space: normal\; orphans: 2\; widows: 2\; background-color: rgb(255\, 255\, 255)\; font-variant-ligatures: normal\; font-variant-caps: normal\; -webkit-text-stroke-width: 0px\; text-decoration-style: initial\; text-decoration-color: initial\;" />\n<br style="color: rgb(75\, 79\, 86)\; text-transform: none\; text-indent: 0px\; letter-spacing: normal\; font-family: Helvetica\, Arial\, sans-serif\; font-size: 14px\; font-style: normal\; font-weight: normal\; word-spacing: 0px\; white-space: normal\; orphans: 2\; widows: 2\; background-color: rgb(255\, 255\, 255)\; font-variant-ligatures: normal\; font-variant-caps: normal\; -webkit-text-stroke-width: 0px\; text-decoration-style: initial\; text-decoration-color: initial\;" />\n<span style="color: rgb(75\, 79\, 86)\; text-transform: none\; text-indent: 0px\; letter-spacing: normal\; font-family: Helvetica\, Arial\, sans-serif\; font-size: 14px\; font-style: normal\; font-weight: normal\; word-spacing: 0px\; float: none\; display: inline !important\; white-space: normal\; orphans: 2\; widows: 2\; background-color: rgb(255\, 255\, 255)\; font-variant-ligatures: normal\; font-variant-caps: normal\; -webkit-text-stroke-width: 0px\; text-decoration-style: initial\; text-decoration-color: initial\;">&bull\;Our 8 acre Corn Maze will be open for $5 per person (as always\, kids 5 years old and younger are free).<span>&nbsp\;</span></span><br style="color: rgb(75\, 79\, 86)\; text-transform: none\; text-indent: 0px\; letter-spacing: normal\; font-family: Helvetica\, Arial\, sans-serif\; font-size: 14px\; font-style: normal\; font-weight: normal\; word-spacing: 0px\; white-space: normal\; orphans: 2\; widows: 2\; background-color: rgb(255\, 255\, 255)\; font-variant-ligatures: normal\; font-variant-caps: normal\; -webkit-text-stroke-width: 0px\; text-decoration-style: initial\; text-decoration-color: initial\;" />\n<span style="color: rgb(75\, 79\, 86)\; text-transform: none\; text-indent: 0px\; letter-spacing: normal\; font-family: Helvetica\, Arial\, sans-serif\; font-size: 14px\; font-style: normal\; font-weight: normal\; word-spacing: 0px\; float: none\; display: inline !important\; white-space: normal\; orphans: 2\; widows: 2\; background-color: rgb(255\, 255\, 255)\; font-variant-ligatures: normal\; font-variant-caps: normal\; -webkit-text-stroke-width: 0px\; text-decoration-style: initial\; text-decoration-color: initial\;">&bull\;LIVE MUSIC ON OUR STAGE THROUGHOUT THE DAY!!! Stay and enjoy the tunes.<span>&nbsp\;</span></span><br style="color: rgb(75\, 79\, 86)\; text-transform: none\; text-indent: 0px\; letter-spacing: normal\; font-family: Helvetica\, Arial\, sans-serif\; font-size: 14px\; font-style: normal\; font-weight: normal\; word-spacing: 0px\; white-space: normal\; orphans: 2\; widows: 2\; background-color: rgb(255\, 255\, 255)\; font-variant-ligatures: normal\; font-variant-caps: normal\; -webkit-text-stroke-width: 0px\; text-decoration-style: initial\; text-decoration-color: initial\;" />\n<span style="color: rgb(75\, 79\, 86)\; text-transform: none\; text-indent: 0px\; letter-spacing: normal\; font-family: Helvetica\, Arial\, sans-serif\; font-size: 14px\; font-style: normal\; font-weight: normal\; word-spacing: 0px\; float: none\; display: inline !important\; white-space: normal\; orphans: 2\; widows: 2\; background-color: rgb(255\, 255\, 255)\; font-variant-ligatures: normal\; font-variant-caps: normal\; -webkit-text-stroke-width: 0px\; text-decoration-style: initial\; text-decoration-color: initial\;">&bull\;Grab a bag of our freshly popped kettle corn for $5 each.<span>&nbsp\;</span></span><br style="color: rgb(75\, 79\, 86)\; text-transform: none\; text-indent: 0px\; letter-spacing: normal\; font-family: Helvetica\, Arial\, sans-serif\; font-size: 14px\; font-style: normal\; font-weight: normal\; word-spacing: 0px\; white-space: normal\; orphans: 2\; widows: 2\; background-color: rgb(255\, 255\, 255)\; font-variant-ligatures: normal\; font-variant-caps: normal\; -webkit-text-stroke-width: 0px\; text-decoration-style: initial\; text-decoration-color: initial\;" />\n<span style="color: rgb(75\, 79\, 86)\; text-transform: none\; text-indent: 0px\; letter-spacing: normal\; font-family: Helvetica\, Arial\, sans-serif\; font-size: 14px\; font-style: normal\; font-weight: normal\; word-spacing: 0px\; float: none\; display: inline !important\; white-space: normal\; orphans: 2\; widows: 2\; background-color: rgb(255\, 255\, 255)\; font-variant-ligatures: normal\; font-variant-caps: normal\; -webkit-text-stroke-width: 0px\; text-decoration-style: initial\; text-decoration-color: initial\;">&bull\;The award winning &quot\;Cornfield BBQ Rig&quot\; from<span>&nbsp\;</span></span><a data-hovercard="/ajax/hovercard/page.php?id=117602494932368&amp\;extragetparams=%7B%22directed_target_id%22%3A145177242666857%7D" data-hovercard-prefer-more-content-show="1" href="https://www.facebook.com/The-Cornfield-Cafe-117602494932368/" style="color: rgb(54\, 88\, 153)\; text-transform: none\; text-indent: 0px\; letter-spacing: normal\; font-family: Helvetica\, Arial\, sans-serif\; font-size: 14px\; font-style: normal\; font-weight: normal\; text-decoration: none\; word-spacing: 0px\; white-space: normal\; cursor: pointer\; orphans: 2\; widows: 2\; background-color: rgb(255\, 255\, 255)\; font-variant-ligatures: normal\; font-variant-caps: normal\; -webkit-text-stroke-width: 0px\;">The Cornfield Cafe</a><span style="color: rgb(75\, 79\, 86)\; text-transform: none\; text-indent: 0px\; letter-spacing: normal\; font-family: Helvetica\, Arial\, sans-serif\; font-size: 14px\; font-style: normal\; font-weight: normal\; word-spacing: 0px\; float: none\; display: inline !important\; white-space: normal\; orphans: 2\; widows: 2\; background-color: rgb(255\, 255\, 255)\; font-variant-ligatures: normal\; font-variant-caps: normal\; -webkit-text-stroke-width: 0px\; text-decoration-style: initial\; text-decoration-color: initial\;"><span>&nbsp\;</span>will be here all day dishing up mouth watering meals.....come\, sit and taste some of the BEST BBQ around!<span>&nbsp\;</span></span><br style="color: rgb(75\, 79\, 86)\; text-transform: none\; text-indent: 0px\; letter-spacing: normal\; font-family: Helvetica\, Arial\, sans-serif\; font-size: 14px\; font-style: normal\; font-weight: normal\; word-spacing: 0px\; white-space: normal\; orphans: 2\; widows: 2\; background-color: rgb(255\, 255\, 255)\; font-variant-ligatures: normal\; font-variant-caps: normal\; -webkit-text-stroke-width: 0px\; text-decoration-style: initial\; text-decoration-color: initial\;" />\n<span style="color: rgb(75\, 79\, 86)\; text-transform: none\; text-indent: 0px\; letter-spacing: normal\; font-family: Helvetica\, Arial\, sans-serif\; font-size: 14px\; font-style: normal\; font-weight: normal\; word-spacing: 0px\; float: none\; display: inline !important\; white-space: normal\; orphans: 2\; widows: 2\; background-color: rgb(255\, 255\, 255)\; font-variant-ligatures: normal\; font-variant-caps: normal\; -webkit-text-stroke-width: 0px\; text-decoration-style: initial\; text-decoration-color: initial\;">&bull\;Shop over 30 varieties of pumpkins and gourds\, tons of Fall decor and lots of great &#39\;no carve&#39\; ideas.<span>&nbsp\;</span></span><br style="color: rgb(75\, 79\, 86)\; text-transform: none\; text-indent: 0px\; letter-spacing: normal\; font-family: Helvetica\, Arial\, sans-serif\; font-size: 14px\; font-style: normal\; font-weight: normal\; word-spacing: 0px\; white-space: normal\; orphans: 2\; widows: 2\; background-color: rgb(255\, 255\, 255)\; font-variant-ligatures: normal\; font-variant-caps: normal\; -webkit-text-stroke-width: 0px\; text-decoration-style: initial\; text-decoration-color: initial\;" />\n<span style="color: rgb(75\, 79\, 86)\; text-transform: none\; text-indent: 0px\; letter-spacing: normal\; font-family: Helvetica\, Arial\, sans-serif\; font-size: 14px\; font-style: normal\; font-weight: normal\; word-spacing: 0px\; float: none\; display: inline !important\; white-space: normal\; orphans: 2\; widows: 2\; background-color: rgb(255\, 255\, 255)\; font-variant-ligatures: normal\; font-variant-caps: normal\; -webkit-text-stroke-width: 0px\; text-decoration-style: initial\; text-decoration-color: initial\;">&bull\;Relaxing\, clean picnic area.</span><br style="color: rgb(75\, 79\, 86)\; text-transform: none\; text-indent: 0px\; letter-spacing: normal\; font-family: Helvetica\, Arial\, sans-serif\; font-size: 14px\; font-style: normal\; font-weight: normal\; word-spacing: 0px\; white-space: normal\; orphans: 2\; widows: 2\; background-color: rgb(255\, 255\, 255)\; font-variant-ligatures: normal\; font-variant-caps: normal\; -webkit-text-stroke-width: 0px\; text-decoration-style: initial\; text-decoration-color: initial\;" />\n<span style="color: rgb(75\, 79\, 86)\; text-transform: none\; text-indent: 0px\; letter-spacing: normal\; font-family: Helvetica\, Arial\, sans-serif\; font-size: 14px\; font-style: normal\; font-weight: normal\; word-spacing: 0px\; float: none\; display: inline !important\; white-space: normal\; orphans: 2\; widows: 2\; background-color: rgb(255\, 255\, 255)\; font-variant-ligatures: normal\; font-variant-caps: normal\; -webkit-text-stroke-width: 0px\; text-decoration-style: initial\; text-decoration-color: initial\;">&bull\;KJ Country 96.5 wi</span><span class="text_exposed_show" style="color: rgb(75\, 79\, 86)\; text-transform: none\; text-indent: 0px\; letter-spacing: normal\; font-family: Helvetica\, Arial\, sans-serif\; font-size: 14px\; font-style: normal\; font-weight: normal\; word-spacing: 0px\; display: inline\; white-space: normal\; orphans: 2\; widows: 2\; background-color: rgb(255\, 255\, 255)\; font-variant-ligatures: normal\; font-variant-caps: normal\; -webkit-text-stroke-width: 0px\; text-decoration-style: initial\; text-decoration-color: initial\;">th<span>&nbsp\;</span><a data-hovercard="/ajax/hovercard/page.php?id=347254765340768&amp\;extragetparams=%7B%22directed_target_id%22%3A145177242666857%7D" data-hovercard-prefer-more-content-show="1" href="https://www.facebook.com/lakesradio1/" style="color: rgb(54\, 88\, 153)\; font-family: inherit\; text-decoration: none\; cursor: pointer\;">Leighton Broadcasting In Fergus Falls</a><span>&nbsp\;</span>will be here broadcasting LIVE!<br />\n&bull\;Get registered for a &#55357\;&#56485\;&#55357\;&#56485\;$100 GIFT CERTIFICATE and FREE DEER PROCESSING (up to $150 value)&#55357\;&#56485\;&#55357\;&#56485\; from<span>&nbsp\;</span><a data-hovercard="/ajax/hovercard/page.php?id=1415021125407149&amp\;extragetparams=%7B%22directed_target_id%22%3A145177242666857%7D" data-hovercard-prefer-more-content-show="1" href="https://www.facebook.com/ferguslockerplantllc/" style="color: rgb(54\, 88\, 153)\; font-family: inherit\; text-decoration: none\; cursor: pointer\;">Fergus Locker Plant\, LLC</a>!<br />\n&bull\;Hayrides will be available all day\, as well.<span>&nbsp\;</span><br />\n&bull\;Numerous places to take memorable pictures.<br />\n&bull\;FREE professional Face Painting will be taking place throughout the day (free for 2 hours then available for a fee after that).<br />\n<br />\nWe are so pleased to be able to create an event for you to come\, relax and spend time with your family and friends at Mother\, Goose &amp\; Bean&#39\;s.<span>&nbsp\;</span></span>
LOCATION:
UID:e.314.42676
SEQUENCE:3
DTSTAMP:20260424T104308Z
URL:https://business.fergusfalls.com/events/details/fall-festival-42676
END:VEVENT

END:VCALENDAR
