BEGIN:VCALENDAR
VERSION:2.0
PRODID:-//ChamberMaster//Event Calendar 2.0//EN
METHOD:PUBLISH
X-PUBLISHED-TTL:P3D
REFRESH-INTERVAL:P3D
CALSCALE:GREGORIAN
BEGIN:VEVENT
DTSTART:20171006T160000Z
DTEND:20171006T180000Z
X-MICROSOFT-CDO-ALLDAYEVENT:FALSE
SUMMARY:Fall Open House at Bank of the West
DESCRIPTION:We would love for you to join us for our Fall Open House!  We will have Grilled Hotdogs and chips\, and give aways (while supplies last). \n\n\n\nRain or Shine\, if it is raining there will be seating in the lobby.
X-ALT-DESC;FMTTYPE=text/html:We would love for you to join us for our Fall Open House!&nbsp\; We will have Grilled Hotdogs and chips\, and give aways (while supplies last).&nbsp\;<br />\n<br />\nRain or Shine\, if it is raining there will be seating in the lobby.
LOCATION:Bank of the West 120 N Mill St. Fergus Falls
UID:e.314.42616
SEQUENCE:3
DTSTAMP:20260424T093209Z
URL:https://business.fergusfalls.com/events/details/fall-open-house-at-bank-of-the-west-42616
END:VEVENT

END:VCALENDAR
