BEGIN:VCALENDAR
VERSION:2.0
PRODID:-//ChamberMaster//Event Calendar 2.0//EN
METHOD:PUBLISH
X-PUBLISHED-TTL:P3D
REFRESH-INTERVAL:P3D
CALSCALE:GREGORIAN
BEGIN:VEVENT
DTSTART:20160604T150000Z
DTEND:20160604T170000Z
X-MICROSOFT-CDO-ALLDAYEVENT:FALSE
SUMMARY:Family Art Table
DESCRIPTION:Family Art Table at the Fergus Falls Public Library
X-ALT-DESC;FMTTYPE=text/html:Family Art Table at the Fergus Falls Public Library
LOCATION:205 E. Hampden Ave
UID:e.314.32841
SEQUENCE:3
DTSTAMP:20260425T145150Z
URL:https://business.fergusfalls.com/events/details/family-art-table-06-04-2016-32841
END:VEVENT

END:VCALENDAR
