BEGIN:VCALENDAR
VERSION:2.0
PRODID:-//ChamberMaster//Event Calendar 2.0//EN
METHOD:PUBLISH
X-PUBLISHED-TTL:P3D
REFRESH-INTERVAL:P3D
CALSCALE:GREGORIAN
BEGIN:VEVENT
DTSTART:20171008T190000Z
DTEND:20171008T230000Z
X-MICROSOFT-CDO-ALLDAYEVENT:FALSE
SUMMARY:Family Bingo at Fergus Falls VFW
DESCRIPTION:It's Family BINGO time at the Fergus Falls VFW!\n\nDoors open at 2:00 p.m. with BINGO begining at 3:00 p.m.\n\nLunch Specials\, Prizes\, Face Painting\, Coloring & Book Give Away!\n\nProceeds Benefit Prescription for Reading Program.\n\nHope to see you there!
X-ALT-DESC;FMTTYPE=text/html:<span class="_4n-j _fbReactionComponent__eventDetailsContentTags fsl" data-testid="event-permalink-details">It&#39\;s Family BINGO time at the Fergus Falls VFW!<br />\nDoors open at 2:00 p.m. with BINGO begining at 3:00 p.m.<br />\nLunch Specials\, Prizes\, Face Painting\, Coloring &amp\; Book Give Away!<br />\nProceeds Benefit Prescription for Reading Program.<br />\nHope to see you there!</span>
LOCATION:Fergus Falls VFW Post 612 Auxiliary 420 E Washington Ave\, Fergus Falls\, Minnesota 56537
UID:e.314.42664
SEQUENCE:3
DTSTAMP:20260424T093023Z
URL:https://business.fergusfalls.com/events/details/family-bingo-at-fergus-falls-vfw-42664
END:VEVENT

END:VCALENDAR
