BEGIN:VCALENDAR
VERSION:2.0
PRODID:-//ChamberMaster//Event Calendar 2.0//EN
METHOD:PUBLISH
X-PUBLISHED-TTL:P3D
REFRESH-INTERVAL:P3D
CALSCALE:GREGORIAN
BEGIN:VEVENT
DTSTART:20190518T150000Z
DTEND:20190518T163000Z
X-MICROSOFT-CDO-ALLDAYEVENT:FALSE
SUMMARY:Family Fun Day at the Library
DESCRIPTION:All families are welcome to join our open-house journey of happiness! Stations include: easy\, feel-good yoga poses\; interactive games\; fun and healthy snacks\; journal and writing activities\; and #4mind4body awareness.\n\n\n\nSponsored by: Lakeland Mental Health Center\, Live Well Fergus Falls\, Thrive\, Shatter the Silence and Fergus Falls Public Library.
X-ALT-DESC;FMTTYPE=text/html:<div class="_63ew" data-testid="event-permalink-details"><span>All families are welcome to join our open-house journey of happiness! Stations include: easy\, feel-good yoga poses\; interactive games\; fun and healthy snacks\; journal and writing activities\; and <a href="https://www.facebook.com/hashtag/4mind4body" target="_blank"><font color="#0066cc">#4mind4body</font></a> awareness.<br />\n<br />\nSponsored by: Lakeland Mental Health Center\, Live Well Fergus Falls\, Thrive\, Shatter the Silence and Fergus Falls Public Library.</span></div>\n
LOCATION:pin Fergus Falls Public Library 205 E. Hampden Ave.\, Fergus Falls\, Minnesota 56537
UID:e.314.53980
SEQUENCE:3
DTSTAMP:20260423T063044Z
URL:https://business.fergusfalls.com/events/details/family-fun-day-at-the-library-53980
END:VEVENT

END:VCALENDAR
