BEGIN:VCALENDAR
VERSION:2.0
PRODID:-//ChamberMaster//Event Calendar 2.0//EN
METHOD:PUBLISH
X-PUBLISHED-TTL:P3D
REFRESH-INTERVAL:P3D
CALSCALE:GREGORIAN
BEGIN:VEVENT
DTSTART:20180912T220000Z
DTEND:20180913T000000Z
X-MICROSOFT-CDO-ALLDAYEVENT:FALSE
SUMMARY:Family Fun Sweet Run
DESCRIPTION:TO REGISTER GO TO: www.active.com\n\nSearch: Family Fun Sweet Run\n\n\n\nThe Lake Region Healthcare Rehabilitation Therapy Department invites you to their "Family Fun Sweet Run" around Lake Alice in Fergus Falls. This family friendly walk/run is to support and uplift the family of Amber Simonson.\n\n\n\nWhile considering a theme for the walk/run\, Amber's coworkers knew she loves 3 things: running\, sweets and family & friends. What better than to combine all 3!\n\n\n\nEVENT DETAILS:\n\n\n\nTO REGISTER GO TO: www.active.com\n\nSearch: Family Fun Sweet Run\n\n\n\nWhen & Where: Wednesday\, September 12th at Lake Alice (RAIN OR SHINE)\n\n\n\nTime: The course will be open from 5:00pm - 7:00pm. You are welcome join the walk/run at any time and complete as many laps as you would like.\n\n\n\nCheck-in and Registration: Check-in and registration will be located around the St. James Episcopal Church on the southwest corner of the lake. This is where you can pick up your "sweets" coupon to enjoy the tasty treats that will be available.\n\n\n\nParking: We ask that you use the side streets around Lake Alice or parking in one of the downtown lots to the south of the lake. As a courtesy to other walkers/runners and yourself\, please do not park on Lakeside Drive.\n\n\n\nFood and Drink: Water will be available free of charge. There will also be a food truck available to purchase food.\n\n\n\nRestrooms: Restrooms are available inside the St. James Episcopal Church.
X-ALT-DESC;FMTTYPE=text/html:<span>TO REGISTER GO TO: <a data-lynx-mode="hover" data-lynx-uri="http://l.facebook.com/l.php?u=http%3A%2F%2Fwww.active.com%2F&amp\;h=AT13Fa8OdXxMwOsoEgbsgdARxpQbNQBcO44khE5303BQ0nweo6IQLRJqpTKH8eWD7XSIrSt_jHEbySwGpR6jVI-Ja3uErFW0_mljnHFi1OSg1-vd5foVDC-slZHehoMdGQ" href="http://www.active.com/" rel="nofollow" target="_blank"><font color="#0066cc">www.active.com</font></a><br />\nSearch: Family Fun Sweet Run<br />\n<br />\nThe Lake Region Healthcare Rehabilitation Therapy Department invites you to their &quot\;Family Fun Sweet Run&quot\; around Lake Alice in Fergus Falls. This family friendly walk/run is to support and uplift the family of Amber Simonson.<br />\n<br />\nWhile considering a theme for the walk/run\, Amber&#39\;s coworkers knew she loves 3 things: running\, sweets and family &amp\; friends. What better than to combine all 3!<br />\n<br />\nEVENT DETAILS:<br />\n<br />\nTO REGISTER GO TO: <a data-lynx-mode="hover" data-lynx-uri="http://l.facebook.com/l.php?u=http%3A%2F%2Fwww.active.com%2F&amp\;h=AT13Fa8OdXxMwOsoEgbsgdARxpQbNQBcO44khE5303BQ0nweo6IQLRJqpTKH8eWD7XSIrSt_jHEbySwGpR6jVI-Ja3uErFW0_mljnHFi1OSg1-vd5foVDC-slZHehoMdGQ" href="http://www.active.com/" rel="nofollow" target="_blank"><font color="#0066cc">www.active.com</font></a><br />\nSearch: Family Fun Sweet Run<br />\n<br />\nWhen &amp\; Where: Wednesday\, September 12th at Lake Alice (RAIN OR SHINE)<br />\n<br />\nTime: The course will be open from 5:00pm - 7:00pm. You are welcome join the walk/run at any time and complete as many laps as you would like.<br />\n<br />\nCheck-in and Registration: Check-in and registration will be located around the St. James Episcopal Church on the southwest corner of the lake. This is where you can pick up your &ldquo\;sweets&rdquo\; coupon to enjoy the tasty treats that will be available.<br />\n<br />\nParking: We ask that you use the side streets around Lake Alice or parking in one of the downtown lots to the south of the lake. As a courtesy to other walkers/runners and yourself\, please do not park on Lakeside Drive.<br />\n<br />\nFood and Drink: Water will be available free of charge. There will also be a food truck available to purchase food.<br />\n<br />\nRestrooms: Restrooms are available inside the St. James Episcopal Church.</span><br />\n&nbsp\;
LOCATION:Lake Alice Fergus Falls
UID:e.314.50324
SEQUENCE:3
DTSTAMP:20260423T165231Z
URL:https://business.fergusfalls.com/events/details/family-fun-sweet-run-50324
END:VEVENT

END:VCALENDAR
