BEGIN:VCALENDAR
VERSION:2.0
PRODID:-//ChamberMaster//Event Calendar 2.0//EN
METHOD:PUBLISH
X-PUBLISHED-TTL:P3D
REFRESH-INTERVAL:P3D
CALSCALE:GREGORIAN
BEGIN:VEVENT
DTSTART:20181209T213000Z
DTEND:20181209T233000Z
X-MICROSOFT-CDO-ALLDAYEVENT:FALSE
SUMMARY:Family Night at the Naz
DESCRIPTION:Lindsey Ness of Start the Talks will be equipping parents on how to have age appropriate conversations with their children on the topic of sexuality. Register here: https://goo.gl/forms/MxZUjID08jXQ6yPO2 Family Night at the Naz is about equipping parents\, investing in kids\, and coming alongside families to build healthy homes in our community. Children's Ministry will run during the parent seminar for infants - 5th graders\, though this event is for parents of all ages! Kids will have fun and learn about self-control. Family Night is FREE to attend and open to everyone in the community! Doors open at 3pm for child check-in Register here: https://goo.gl/forms/MxZUjID08jXQ6yPO2
X-ALT-DESC;FMTTYPE=text/html:Lindsey Ness of Start the Talks will be equipping parents on how to have age appropriate conversations with their children on the topic of sexuality. Register here: https://goo.gl/forms/MxZUjID08jXQ6yPO2 Family Night at the Naz is about equipping parents\, investing in kids\, and coming alongside families to build healthy homes in our community. Children&#39\;s Ministry will run during the parent seminar for infants - 5th graders\, though this event is for parents of all ages! Kids will have fun and learn about self-control. Family Night is FREE to attend and open to everyone in the community! Doors open at 3pm for child check-in Register here: https://goo.gl/forms/MxZUjID08jXQ6yPO2
LOCATION:The Naz 1319 N. Cleveland Ave. Fergus Falls\, MN
UID:e.314.52052
SEQUENCE:3
DTSTAMP:20260423T122510Z
URL:https://business.fergusfalls.com/events/details/family-night-at-the-naz-52052
END:VEVENT

END:VCALENDAR
