BEGIN:VCALENDAR
VERSION:2.0
PRODID:-//ChamberMaster//Event Calendar 2.0//EN
METHOD:PUBLISH
X-PUBLISHED-TTL:P3D
REFRESH-INTERVAL:P3D
CALSCALE:GREGORIAN
BEGIN:VEVENT
DTSTART:20151104T220000Z
DTEND:20151105T030000Z
X-MICROSOFT-CDO-ALLDAYEVENT:FALSE
SUMMARY:Family NIght @ Union Pizza & Brewing Co.
DESCRIPTION:Union Pizza & Brewing Co.     \n\nFamily Night Wednesday!
X-ALT-DESC;FMTTYPE=text/html:Union Pizza &amp\; Brewing Co. &nbsp\;&nbsp\;&nbsp\;&nbsp\;<br>\nFamily Night Wednesday!<br>\n&nbsp\;
LOCATION:114 S. Union Ave. Fergus Falls
UID:e.314.26441
SEQUENCE:3
DTSTAMP:20260426T011710Z
URL:https://business.fergusfalls.com/events/details/family-night-union-pizza-brewing-co-11-04-2015-26441
END:VEVENT

END:VCALENDAR
