BEGIN:VCALENDAR
VERSION:2.0
PRODID:-//ChamberMaster//Event Calendar 2.0//EN
METHOD:PUBLISH
X-PUBLISHED-TTL:P3D
REFRESH-INTERVAL:P3D
CALSCALE:GREGORIAN
BEGIN:VEVENT
DTSTART:20200109T003000Z
DTEND:20200109T013000Z
X-MICROSOFT-CDO-ALLDAYEVENT:FALSE
SUMMARY:Family STEAM Night
DESCRIPTION:Family STEAM Night\n\nWednesday\, January 8\n\n6:30 - 7:30pm\n\nGrades K - 5th (with parent/guardian)\n\n\n\n**Registration is required. Please stop by or call the library (218)739-9387 to sign up**\n\n\n\nA variety of STEAM (Science\, Technology\, Engineering\, Art\, Math) challenges at different stations for families to solve together. Designed for students in grades K - 5th.\n\n\n\nSupported by The Friends of the Fergus Falls Public Library.
X-ALT-DESC;FMTTYPE=text/html:<span>Family STEAM Night<br />\nWednesday\, January 8<br />\n6:30 - 7:30pm<br />\nGrades K - 5th (with parent/guardian)<br />\n<br />\n**Registration is required. Please stop by or call the library (218)739-9387 to sign up**<br />\n<br />\nA variety of STEAM (Science\, Technology\, Engineering\, Art\, Math) challenges at different stations for families to solve together. Designed for students in grades K - 5th.<br />\n<br />\nSupported by The Friends of the Fergus Falls Public Library.</span>
LOCATION:
UID:e.314.56029
SEQUENCE:3
DTSTAMP:20260422T172115Z
URL:https://business.fergusfalls.com/events/details/family-steam-night-56029
END:VEVENT

END:VCALENDAR
