BEGIN:VCALENDAR
VERSION:2.0
PRODID:-//ChamberMaster//Event Calendar 2.0//EN
METHOD:PUBLISH
X-PUBLISHED-TTL:P3D
REFRESH-INTERVAL:P3D
CALSCALE:GREGORIAN
BEGIN:VEVENT
DTSTART:20200722T190000Z
DTEND:20200722T223000Z
X-MICROSOFT-CDO-ALLDAYEVENT:FALSE
SUMMARY:Farmers & Franks
DESCRIPTION:Stop by the Jessica Rose Lopez Agency on July 22nd for some safe and socially distancing outdoor fun! We will be handing out hot dogs\, providing beverages\, and giving away a brand new HD Smart TV!\n\nDate: Wednesday\, July 22nd\n\nTime: 2:00 PM - 5:30 PM\n\nPlace: 1105 W Lincoln Ave I Fergus Falls\, MN 56537\n\n\n\nThe event will take place in the parking lot right outside of the Jessica Rose Lopez Agency (next door to Papa Murphy's and right across the street from the Fergus Falls Farmers Market)\n\n Come join us in support your local small business owners in the Fergus Falls area! \n\n \n\nLink to Facebook Event: https://bit.ly/2OH7SGz-Farmers-and-Franks\n\n\n\n \n** COVID-19 DISCLOSURE: Indoors and Outdoors Capacity: 6 feet of social distance\, max 50%\, maximum of 250 people within a single self-contained space. Masks: Strongly recommended for workers and attendees. As of June 10th\, 2020\, the Minnesota Department of Health and Safety has announced the State's transition into Phase 3 of COVID-19. Minnesota has made good progress on slowing the spread of COVID-19. As we continue the process of reopening our economy and returning to work and activities we enjoy\, we must continue social distancing practices to save lives and stay safe.
X-ALT-DESC;FMTTYPE=text/html:<p><span style="font-size:16px"><span style="font-family:arial\,helvetica\,sans-serif">Stop by the Jessica Rose Lopez Agency on July 22nd for some <strong><span style="color:#003087"><em>safe </em></span></strong>and<strong> <span style="color:#003087"><em>socially distancing outdoor fun</em></span></strong>! We will be handing out <u><strong>hot dogs</strong></u>\, providing <u><strong>beverages</strong></u>\, and giving away a brand new <u><strong>HD Smart TV!</strong></u></span></span></p>\n\n<p><span style="font-size:14px"><span style="font-family:arial\,helvetica\,sans-serif"><strong>Date:</strong> Wednesday\, July 22nd<br />\n<strong>Time: </strong>2:00 PM - 5:30 PM<br />\n<strong>Place:</strong> 1105 W Lincoln Ave I Fergus Falls\, MN 56537</span></span><br />\n<br />\n<span style="font-family:arial\,helvetica\,sans-serif\; font-size:14px">The event will take place in the <strong>parking lot</strong> right outside of the Jessica Rose Lopez Agency (next door to Papa Murphy&#39\;s and right across the street from the Fergus Falls Farmers Market)</span></p>\n\n<p><span style="font-size:14px"><span style="font-family:arial\,helvetica\,sans-serif"><span style="color:#FFFFFF"><strong><span style="font-size:16px"><em><span style="background-color:#003087">&nbsp\;Come join us in support your local small business owners in the Fergus Falls area!&nbsp\;</span></em></span></strong></span></span></span><br />\n&nbsp\;</p>\n\n<p><u style="font-size:14px">Link to Facebook Event</u><span style="font-size:14px">:&nbsp\;https://bit.ly/2OH7SGz-Farmers-and-Franks</span><br />\n<br />\n&nbsp\;</p>\n<span style="font-family:arial\,helvetica\,sans-serif"><em>** COVID-19 DISCLOSURE: Indoors and Outdoors Capacity: 6 feet of social distance\, max 50%\, maximum of 250 people within a single self-contained space. Masks: Strongly recommended for workers and attendees. As of June 10th\, 2020\, the Minnesota Department of Health and Safety has announced the State&#39\;s transition into Phase 3 of COVID-19. Minnesota has made good progress on slowing the spread of COVID-19. As we continue the process of reopening our economy and returning to work and activities we enjoy\, we must continue social distancing practices to save lives and stay safe.&nbsp\;</em></span>\n\n<p>&nbsp\;</p>\n
LOCATION:Location: 1105 W Lincoln Ave I Fergus Falls\, MN I 56537
UID:e.314.57776
SEQUENCE:3
DTSTAMP:20260422T064206Z
URL:https://business.fergusfalls.com/events/details/farmers-franks-57776
END:VEVENT

END:VCALENDAR
