BEGIN:VCALENDAR
VERSION:2.0
PRODID:-//ChamberMaster//Event Calendar 2.0//EN
METHOD:PUBLISH
X-PUBLISHED-TTL:P3D
REFRESH-INTERVAL:P3D
CALSCALE:GREGORIAN
BEGIN:VEVENT
DTSTART:20160619T150000Z
DTEND:20160619T190000Z
X-MICROSOFT-CDO-ALLDAYEVENT:FALSE
SUMMARY:Father's Day Brunch
DESCRIPTION:It's time to start thinking about Father's Day! Make plans to join us this Sunday for our spectacular Father's Day Brunch. From 10am-2pm we will have a huge variety of breakfast and lunch favorites\, as well as fresh fruit\, full salad bar\, desserts\, chef made-to-order omelets\, and chef-carved beef. With affordable pricing and coffee included\, this is a no brainer way to say "thank you" to that amazing dad in your life!
X-ALT-DESC;FMTTYPE=text/html:<span class="_4n-j fsl">It&#39\;s time to start thinking about Father&#39\;s Day! Make plans to join us this Sunday for our spectacular Father&#39\;s Day Brunch. From 10am-2pm we will have a huge variety of breakfast and lunch favorites\, as well as fresh fruit\, full salad bar\, desserts\, chef made-to-order omelets\, and chef-carved beef. With affordable pricing and coffee included\, this is a no brainer way to say &quot\;thank you&quot\; to that amazing dad in your life!</span>
LOCATION:Z103 Bar & Grill 902 Frontier Dr\, Fergus Falls\, Minnesota 56537
UID:e.314.32884
SEQUENCE:3
DTSTAMP:20260425T125420Z
URL:https://business.fergusfalls.com/events/details/father-s-day-brunch-06-19-2016-32884
END:VEVENT

END:VCALENDAR
